BEGIN:VCALENDAR
VERSION:2.0
PRODID:-//Napa Communities Firewise Foundation - ECPv6.15.20//NONSGML v1.0//EN
CALSCALE:GREGORIAN
METHOD:PUBLISH
X-WR-CALNAME:Napa Communities Firewise Foundation
X-ORIGINAL-URL:https://napafirewise.org
X-WR-CALDESC:Events for Napa Communities Firewise Foundation
REFRESH-INTERVAL;VALUE=DURATION:PT1H
X-Robots-Tag:noindex
X-PUBLISHED-TTL:PT1H
BEGIN:VTIMEZONE
TZID:America/Los_Angeles
BEGIN:DAYLIGHT
TZOFFSETFROM:-0800
TZOFFSETTO:-0700
TZNAME:PDT
DTSTART:20250309T100000
END:DAYLIGHT
BEGIN:STANDARD
TZOFFSETFROM:-0700
TZOFFSETTO:-0800
TZNAME:PST
DTSTART:20251102T090000
END:STANDARD
BEGIN:DAYLIGHT
TZOFFSETFROM:-0800
TZOFFSETTO:-0700
TZNAME:PDT
DTSTART:20260308T100000
END:DAYLIGHT
BEGIN:STANDARD
TZOFFSETFROM:-0700
TZOFFSETTO:-0800
TZNAME:PST
DTSTART:20261101T090000
END:STANDARD
BEGIN:DAYLIGHT
TZOFFSETFROM:-0800
TZOFFSETTO:-0700
TZNAME:PDT
DTSTART:20270314T100000
END:DAYLIGHT
BEGIN:STANDARD
TZOFFSETFROM:-0700
TZOFFSETTO:-0800
TZNAME:PST
DTSTART:20271107T090000
END:STANDARD
END:VTIMEZONE
BEGIN:VEVENT
DTSTART;TZID=America/Los_Angeles:20260507T090000
DTEND;TZID=America/Los_Angeles:20260507T120000
DTSTAMP:20260422T212325
CREATED:20260403T202941Z
LAST-MODIFIED:20260403T202943Z
UID:13280-1778144400-1778155200@napafirewise.org
SUMMARY:Coombville-Wildhorse Valley Firewise and Grange Collaboration
DESCRIPTION:Join the Coombsville Wildfire Valley Fire Safe Council and Napa Grange #791 for a community clean-up and fire abatement day.
URL:https://napafirewise.org/event/coombville-wildhorse-valley-firewise-and-grange-collaboration/
LOCATION:Napa Grange #791\, 3275 Hagen Rd\, Napa\, California\, 94515\, United States
ATTACH;FMTTYPE=image/png:https://napafirewise.org/wp-content/uploads/2026/04/b96b2e4c-da24-4ec0-9d31-7dfe09619d8a.png
ORGANIZER;CN="Coombsville-Wildhorse Valley Fire Safe Council":MAILTO:coombsville@napafirewise.org
END:VEVENT
BEGIN:VEVENT
DTSTART;TZID=America/Los_Angeles:20260507T170000
DTEND;TZID=America/Los_Angeles:20260507T193000
DTSTAMP:20260422T212325
CREATED:20260422T212711Z
LAST-MODIFIED:20260422T212804Z
UID:13357-1778173200-1778182200@napafirewise.org
SUMMARY:Coombsville-Wildhorse Valley Community Meeting |Evacuation & Wildfire Preparedness
DESCRIPTION:Join the Coombsville-Wildhorse Valley Fire Safe Council on May 7th for a Community Meeting to discuss Evacuations & Wildfire Preparedness \n\n\n\nMeet your neighbors and learn how to mitigate fire risk in your neighborhood.  This meeting will take place at the Welcome Grange.  Coombsville-Wildhorse Valley FSC will provide light snacks and water/soda. You may bring wine to share! \n\n\n\n(The parking lot has limited spaces so please carpool when possible) \n\n\n\n \n\n\n\nThe Coombsville-Wildhorse Valley Fire Safe Council is organizing this meeting to help each other learn and actively make your neighborhoods safer from wildfire: safer for people and properties. \n\n\n\n✔️ COMMUNITY WILDFIRE PROTECTION PLAN is in place.  \n\n\n\n✔️Coombsville-Wildhorse Fire Safe Council is now recognized as a FIREWISE USA® SITE and YOUR insurer may provide discounts on your fire insurance!  \n\n\n\nAttend the meeting to learn more\, and learn about new projects in your community. Napa County Supervisors\, Napa Sheriff\, OES\, Fire Personnel; Insurance Professional; United Policyholders; COAD & CART\, USDA (cost sharing conservation) will be AVAILABLE to answer questions. \n\n\n\n \n\n\n\nPLEASE R.S.V.P BY APRIL 30\, 2026 TO EILEEN PEREIRA: eileen@aston.com or \n\n\n\nRICHARD GOSS:  rgoss1416@gmail.com \n\n\n\nDONATE: https://napafirewise.org/donate/#fsc_donations       
URL:https://napafirewise.org/event/coombsville-wildhorse-valley-community-meeting-evacuation-wildfire-preparedness/
LOCATION:Napa Grange #791\, 3275 Hagen Rd\, Napa\, California\, 94515\, United States
ORGANIZER;CN="Coombsville-Wildhorse Valley Fire Safe Council":MAILTO:coombsville@napafirewise.org
END:VEVENT
BEGIN:VEVENT
DTSTART;TZID=America/Los_Angeles:20260516T100000
DTEND;TZID=America/Los_Angeles:20260516T120000
DTSTAMP:20260422T212325
CREATED:20260413T160541Z
LAST-MODIFIED:20260413T160759Z
UID:13324-1778925600-1778932800@napafirewise.org
SUMMARY:Berryessa Highlands Community Meeting & Lunch
DESCRIPTION:Join the Berryessa Highlands Fire Safe Council to hear from Napa County agencies for updates and important ways to protect your home and neighbhorhood. \n\n\n\nGuests & what will be covered: \n\n\n\n\nSupervisor Manfree – Wants to hear from you! Open discussion & updates\n\n\n\nOES (O􀆯ice of Emergency Services) – What to do in an emergency\n\n\n\nBHFSC & CalFire – WUI Defensible Space; Tips for protecting your home\n\n\n\nCommunity Wildfire Protection Plan – Learn about our CWPP & projects\n\n\n\nNBRID Ballot Measure – Important status updates\n\n\n\nSteele Canyon Resort – Hear the latest news\n\n\n\n\nLunch provided after the presentations\, courtesy of Amber Manfree\,Supervisor of Napa County\, District 4
URL:https://napafirewise.org/event/berryessa-highlands-community-meeting-lunch/
LOCATION:Capell Valley Volunteer Fire Station 14\, 1193 Capell Valley Road\, Napa
ORGANIZER;CN="Berryessa Highlands FSC":MAILTO:highlands@napafirewise.org
END:VEVENT
END:VCALENDAR