BEGIN:VCALENDAR
VERSION:2.0
PRODID:-//Napa Communities Firewise Foundation - ECPv6.15.20//NONSGML v1.0//EN
CALSCALE:GREGORIAN
METHOD:PUBLISH
X-ORIGINAL-URL:https://napafirewise.org
X-WR-CALDESC:Events for Napa Communities Firewise Foundation
REFRESH-INTERVAL;VALUE=DURATION:PT1H
X-Robots-Tag:noindex
X-PUBLISHED-TTL:PT1H
BEGIN:VTIMEZONE
TZID:America/Los_Angeles
BEGIN:DAYLIGHT
TZOFFSETFROM:-0800
TZOFFSETTO:-0700
TZNAME:PDT
DTSTART:20210314T100000
END:DAYLIGHT
BEGIN:STANDARD
TZOFFSETFROM:-0700
TZOFFSETTO:-0800
TZNAME:PST
DTSTART:20211107T090000
END:STANDARD
BEGIN:DAYLIGHT
TZOFFSETFROM:-0800
TZOFFSETTO:-0700
TZNAME:PDT
DTSTART:20220313T100000
END:DAYLIGHT
BEGIN:STANDARD
TZOFFSETFROM:-0700
TZOFFSETTO:-0800
TZNAME:PST
DTSTART:20221106T090000
END:STANDARD
BEGIN:DAYLIGHT
TZOFFSETFROM:-0800
TZOFFSETTO:-0700
TZNAME:PDT
DTSTART:20230312T100000
END:DAYLIGHT
BEGIN:STANDARD
TZOFFSETFROM:-0700
TZOFFSETTO:-0800
TZNAME:PST
DTSTART:20231105T090000
END:STANDARD
END:VTIMEZONE
BEGIN:VEVENT
DTSTART;TZID=America/Los_Angeles:20220420T173000
DTEND;TZID=America/Los_Angeles:20220420T190000
DTSTAMP:20260423T082355
CREATED:20220418T204826Z
LAST-MODIFIED:20220418T205356Z
UID:2594-1650475800-1650481200@napafirewise.org
SUMMARY:PG&E Virtual Safety Town Hall
DESCRIPTION:PG&E Invites All Customer to Virtual Safety Town Hall Wednesday to Discuss Information and Resources on PG&E’s Wildfire Prevention Efforts\n\n\n\nPG&E to host virtual event to share local wildfire safety progress\, new programs in 2022 and steps customers can take to prepare\n\n\n\nTo help keep customers and communities safe in the face of growing wildfire risk across the state\, Pacific Gas and Electric Company (PG&E) is continuing to evolve its wildfire safety program to reduce the risk of catastrophic wildfires.  \n\n\n\nTo share wildfire prevention plans for 2022 and listen to customer feedback\, PG&E is hosting a safety town hall for all customers on Wednesday\, April 20\, from 5:30 to 7 p.m. PG&E experts will provide a brief presentation\, after which attendees will have the opportunity to ask questions.  \n\n\n\nDuring the webinar event\, the PG&E team will discuss:  \n\n\n\nEfforts to underground more of our powerlinesExpanded safety settings program and planned improvementsProgress on system upgrades to prevent wildfires Additional customer resources to prepare for wildfire season and potential outages\n\n\n\nThe event can be accessed through the link or dial-in below or through PG&E’s website\, pge.com/firesafetywebinars.   \n\n\n\nClick this link to join: bit.ly/3LHRzFG \n\n\n\nAttendee Dial-in: 800-369-2098 \n\n\n\nConference ID: 1371852 \n\n\n\nClosed captioning will be available in English\, Spanish and Chinese and dial-in numbers will be available for those who aren’t able to join online.  \n\n\n\nFor the full webinar events schedule\, additional information on how to join\, recordings and presentation materials from past events\, and to learn more about PG&E’s Community Wildfire Safety Program\, visit pge.com/wildfiresafety.
URL:https://napafirewise.org/event/pge-virtual-safety-town-hall/
LOCATION:California
END:VEVENT
BEGIN:VEVENT
DTSTART;TZID=America/Los_Angeles:20220423T120000
DTEND;TZID=America/Los_Angeles:20220423T120000
DTSTAMP:20260423T082355
CREATED:20220211T223647Z
LAST-MODIFIED:20250327T221911Z
UID:2117-1650715200-1650715200@napafirewise.org
SUMMARY:Monan's Rill And Attagirl Acres
DESCRIPTION:April 23rd  \n\n\n\n\n\nSee how your neighbors are putting forest stewardship into action  \n\n\n\n\nEmail to Register
URL:https://napafirewise.org/event/monans-rill-and-attagirl-acres/
LOCATION:California
END:VEVENT
BEGIN:VEVENT
DTSTART;TZID=America/Los_Angeles:20220424T110000
DTEND;TZID=America/Los_Angeles:20220424T160000
DTSTAMP:20260423T082355
CREATED:20220420T212919Z
LAST-MODIFIED:20220420T212923Z
UID:2660-1650798000-1650816000@napafirewise.org
SUMMARY:Earth Day Napa
DESCRIPTION:Celebrating the 3rd 50th Anniversary together! We hope to see you there (COVID protocols based on situation will be in place) \n\n\n\nDon’t forget to join the Earth Day Napa Cleanup\, starting at 9 am going until 11 am (right in time to join Earth Day Napa celebration!) More information can be found at: Earth Day Napa Community Cleanup – April 24 | Napa County RCD (naparcd.org)
URL:https://napafirewise.org/event/earth-day-napa/
LOCATION:Oxbow Commons\, 1268 McKinstry St\, Napa\, California\, 94559\, United States
END:VEVENT
BEGIN:VEVENT
DTSTART;TZID=America/Los_Angeles:20220428T100000
DTEND;TZID=America/Los_Angeles:20220428T140000
DTSTAMP:20260423T082355
CREATED:20220317T061710Z
LAST-MODIFIED:20220427T234158Z
UID:2282-1651140000-1651154400@napafirewise.org
SUMMARY:Fire Resources Fair
DESCRIPTION:Napa Firewise\, in partnership with the Napa Valley Vintners and Napa Valley Grapegrowers\, are hosting a Fire Resources Fair on April 28 to allow members of the industry and community to come together in response to annual wildfires. This will be an outdoor\, in-person event where attendees can interact with organizations and businesses looking to support the community in fire recovery and prevention. \n\n\n\n\n\n\n\nPre-Registration is Closed\n\n\n\nYou are welcome to register to attend at the door. \n\n\n\n\n\n\n\nBrought to you by Napa Firewiseand our Partners
URL:https://napafirewise.org/event/fire-resources-fair/
LOCATION:Napa Valley College Upper Valley Campus\, 1088 College Ave\, St. Helena\, California\, 94574\, United States
ATTACH;FMTTYPE=image/jpeg:https://napafirewise.org/wp-content/uploads/2019/04/aerial-napa-valley.jpg
END:VEVENT
END:VCALENDAR