BEGIN:VCALENDAR
VERSION:2.0
PRODID:-//Napa Communities Firewise Foundation - ECPv6.15.20//NONSGML v1.0//EN
CALSCALE:GREGORIAN
METHOD:PUBLISH
X-ORIGINAL-URL:https://napafirewise.org
X-WR-CALDESC:Events for Napa Communities Firewise Foundation
REFRESH-INTERVAL;VALUE=DURATION:PT1H
X-Robots-Tag:noindex
X-PUBLISHED-TTL:PT1H
BEGIN:VTIMEZONE
TZID:America/Los_Angeles
BEGIN:DAYLIGHT
TZOFFSETFROM:-0800
TZOFFSETTO:-0700
TZNAME:PDT
DTSTART:20210314T100000
END:DAYLIGHT
BEGIN:STANDARD
TZOFFSETFROM:-0700
TZOFFSETTO:-0800
TZNAME:PST
DTSTART:20211107T090000
END:STANDARD
BEGIN:DAYLIGHT
TZOFFSETFROM:-0800
TZOFFSETTO:-0700
TZNAME:PDT
DTSTART:20220313T100000
END:DAYLIGHT
BEGIN:STANDARD
TZOFFSETFROM:-0700
TZOFFSETTO:-0800
TZNAME:PST
DTSTART:20221106T090000
END:STANDARD
BEGIN:DAYLIGHT
TZOFFSETFROM:-0800
TZOFFSETTO:-0700
TZNAME:PDT
DTSTART:20230312T100000
END:DAYLIGHT
BEGIN:STANDARD
TZOFFSETFROM:-0700
TZOFFSETTO:-0800
TZNAME:PST
DTSTART:20231105T090000
END:STANDARD
END:VTIMEZONE
BEGIN:VEVENT
DTSTART;VALUE=DATE:20220502
DTEND;VALUE=DATE:20220503
DTSTAMP:20260423T070129
CREATED:20220418T150324Z
LAST-MODIFIED:20220418T160232Z
UID:2581-1651449600-1651535999@napafirewise.org
SUMMARY:Napa County Chipping Program
DESCRIPTION:This program begins on May 2\, 2022 and runs through the season at the discretion of Napa County. While we are pleased to help spread the word on the chipping program\, it’s fully operated by Napa County\, and the Fire Marshal’s office. \n \n \n \n\n\n\nProgram Details
URL:https://napafirewise.org/event/napa-county-chipping-program/
LOCATION:California
END:VEVENT
BEGIN:VEVENT
DTSTART;TZID=America/Los_Angeles:20220507T080000
DTEND;TZID=America/Los_Angeles:20220507T170000
DTSTAMP:20260423T070129
CREATED:20220314T211308Z
LAST-MODIFIED:20220314T211500Z
UID:2275-1651910400-1651942800@napafirewise.org
SUMMARY:Fire Forward's Basic Wildland Fire Fighter Training
DESCRIPTION:Learn the basics of wildland firefighting and prescribed fire-lighting in this blended online class with one day field training. The training is a two-part course: online coursework plus arduous pack test required prior to attending the in-person field day. By the end of the field day\, students will have a basic\, wildland firefighter certification (NWCG FFT2) and will be fully qualified to participate on any cooperative\, future prescribed burns across the region. Skills acquired at the training include fireline communications\, gear and equipment\, how prescribed fire ignitions are run\, how to operate a pump and install a hoselay\, and more. \n\n\n\nFood: Lunch is provided to workshop participants and included in the registration cost.
URL:https://napafirewise.org/event/fire-forwards-basic-wildland-fire-fighter-training/
LOCATION:Bouverie Preserve | Audubon Canyon Ranch\, 13815 California Hwy 12\, Glen Ellen\, 95442\, United States
END:VEVENT
BEGIN:VEVENT
DTSTART;TZID=America/Los_Angeles:20220517T130000
DTEND;TZID=America/Los_Angeles:20220517T143000
DTSTAMP:20260423T070129
CREATED:20220516T084903Z
LAST-MODIFIED:20230321T175917Z
UID:2870-1652792400-1652797800@napafirewise.org
SUMMARY:Napa Community Wildfire Protection Plan (CWPP) Expansion - meeting
DESCRIPTION:Join us for a Zoom meeting to learn about Napa Firewise’s efforts to expand the Napa Countywide Community Wildfire Protection Plan (CWPP). This remains a collaborative\, community-wide effort to address wildfire risk in Napa County. As a Community Partner\, Napa Firewise values your participation. This meeting is an opportunity to review the updated and expanded plan. We will provide a brief overview of the CWPP\, share progress toward increasing engagement\, overview newly added projects\, and discuss next steps. For a link to this Zoom meeting\, email shari@napafirewise.org
URL:https://napafirewise.org/event/napa-community-wildfire-protection-plan-cwpp-expansion-meeting/
LOCATION:California
END:VEVENT
BEGIN:VEVENT
DTSTART;TZID=America/Los_Angeles:20220531T180000
DTEND;TZID=America/Los_Angeles:20220531T193000
DTSTAMP:20260423T070129
CREATED:20220527T164911Z
LAST-MODIFIED:20220606T170340Z
UID:2949-1654020000-1654025400@napafirewise.org
SUMMARY:Tree Mortality Education for Homeowners
DESCRIPTION:Join Napa County Resource Conservation District Tuesday\, May 31st 6:00-7:30pm for an online webinar to educate homeowners experiencing tree mortality on their properties. Staff from RCD\, NRCS\, UCCE and CalFire will discuss tree mortality due to impacts of fire\, drought\, and native pests and recommend resources to help with land management. \n\n\n\nAgenda: \n\n\n\n\n6:00-6:30 pm– Conifer Mortality\n\nMike Jones\, Forest Adviser\, UC Cooperative Extension\n\n\n6:30-6:40 pm– USDA Natural Resources Conservation Service (NRCS) Financial Assistance Programs for Forest Management\n\nErika Valek\, Soil Conservationist\, USDA NRC\n\n\n6:40-6:50 pm– Financial and Technical Assistance from Napa RCD\n\nAmanda Benton\, Forestry Program Manager\, Napa RCD\n\n\n6:50-7:30 pm– Q&A Session\n\n\n\n\nRegistration link for a field walk in Angwin on Sunday\, June 5th\, will be available after the webinar. The field walk will be limited to 35 people and will require registration to attend. \n\n\n\n\n\nTrouble logging in? Here are the Zoom details: \n\n\n\n\nMeeting ID: 950 8118 0834\nPasscode: 273530\n\nTree Mortality in Northern California: Questions and Answers  \nDownload Tree Mortality PDF \nTree Mortality Education for Homeowners Webinar
URL:https://napafirewise.org/event/tree-mortality-education-for-homeowners/
LOCATION:California
END:VEVENT
END:VCALENDAR