BEGIN:VCALENDAR
VERSION:2.0
PRODID:-//Napa Communities Firewise Foundation - ECPv6.15.20//NONSGML v1.0//EN
CALSCALE:GREGORIAN
METHOD:PUBLISH
X-ORIGINAL-URL:https://napafirewise.org
X-WR-CALDESC:Events for Napa Communities Firewise Foundation
REFRESH-INTERVAL;VALUE=DURATION:PT1H
X-Robots-Tag:noindex
X-PUBLISHED-TTL:PT1H
BEGIN:VTIMEZONE
TZID:America/Los_Angeles
BEGIN:DAYLIGHT
TZOFFSETFROM:-0800
TZOFFSETTO:-0700
TZNAME:PDT
DTSTART:20210314T100000
END:DAYLIGHT
BEGIN:STANDARD
TZOFFSETFROM:-0700
TZOFFSETTO:-0800
TZNAME:PST
DTSTART:20211107T090000
END:STANDARD
BEGIN:DAYLIGHT
TZOFFSETFROM:-0800
TZOFFSETTO:-0700
TZNAME:PDT
DTSTART:20220313T100000
END:DAYLIGHT
BEGIN:STANDARD
TZOFFSETFROM:-0700
TZOFFSETTO:-0800
TZNAME:PST
DTSTART:20221106T090000
END:STANDARD
BEGIN:DAYLIGHT
TZOFFSETFROM:-0800
TZOFFSETTO:-0700
TZNAME:PDT
DTSTART:20230312T100000
END:DAYLIGHT
BEGIN:STANDARD
TZOFFSETFROM:-0700
TZOFFSETTO:-0800
TZNAME:PST
DTSTART:20231105T090000
END:STANDARD
END:VTIMEZONE
BEGIN:VEVENT
DTSTART;TZID=America/Los_Angeles:20220804T160000
DTEND;TZID=America/Los_Angeles:20220804T190000
DTSTAMP:20260423T030033
CREATED:20220625T162149Z
LAST-MODIFIED:20220728T195916Z
UID:2995-1659628800-1659639600@napafirewise.org
SUMMARY:Silverado FSC Fire Safe Fair
DESCRIPTION:Are you ready for the next fire? Join us for a fun\, informational fire preparedness event at Silverado Resort. Featured speakers at 5pm include Sen. Bill Dodd & Napa County Fire Chief Jason Martin. Learn how to protect your home as you browse 30 fire resource exhibitors and meet wildfire preparedness experts. FREE; All are welcome. No-host bar and Original Burger Dogs for sale. Event location: Silverado Resort Mansion Garden Tent. \nJUST ADDED! Raffle for valuable fire preparedness items & services\, including fire risk evaluations\, a Go-Bag\, air filters\, an exclusive Frontline Wildfire package\, wildfire service discounts\, an original painting\, and of course wine! Tickets are $20 each. Need not be present to win\, and ticket buyers may choose which prizes they’d like to enter per drawing. \nSponsored by Silverado Resort & Spa; Silverado Fire Safe Council; Napa Firewise and CAL FIRE/Napa County. \nQuestions? Contact linda@napafirewise.org. \n 
URL:https://napafirewise.org/event/silverado-fsc-fire-safe-fair/
LOCATION:Silverado Resort and Spa\, 1600 Atlas Peak Rd\, Napa\, California\, 94558
END:VEVENT
END:VCALENDAR