BEGIN:VCALENDAR
VERSION:2.0
PRODID:-//Napa Communities Firewise Foundation - ECPv6.15.20//NONSGML v1.0//EN
CALSCALE:GREGORIAN
METHOD:PUBLISH
X-ORIGINAL-URL:https://napafirewise.org
X-WR-CALDESC:Events for Napa Communities Firewise Foundation
REFRESH-INTERVAL;VALUE=DURATION:PT1H
X-Robots-Tag:noindex
X-PUBLISHED-TTL:PT1H
BEGIN:VTIMEZONE
TZID:America/Los_Angeles
BEGIN:DAYLIGHT
TZOFFSETFROM:-0800
TZOFFSETTO:-0700
TZNAME:PDT
DTSTART:20210314T100000
END:DAYLIGHT
BEGIN:STANDARD
TZOFFSETFROM:-0700
TZOFFSETTO:-0800
TZNAME:PST
DTSTART:20211107T090000
END:STANDARD
BEGIN:DAYLIGHT
TZOFFSETFROM:-0800
TZOFFSETTO:-0700
TZNAME:PDT
DTSTART:20220313T100000
END:DAYLIGHT
BEGIN:STANDARD
TZOFFSETFROM:-0700
TZOFFSETTO:-0800
TZNAME:PST
DTSTART:20221106T090000
END:STANDARD
BEGIN:DAYLIGHT
TZOFFSETFROM:-0800
TZOFFSETTO:-0700
TZNAME:PDT
DTSTART:20230312T100000
END:DAYLIGHT
BEGIN:STANDARD
TZOFFSETFROM:-0700
TZOFFSETTO:-0800
TZNAME:PST
DTSTART:20231105T090000
END:STANDARD
END:VTIMEZONE
BEGIN:VEVENT
DTSTART;TZID=America/Los_Angeles:20221012T180000
DTEND;TZID=America/Los_Angeles:20221012T180000
DTSTAMP:20260423T001135
CREATED:20220830T185041Z
LAST-MODIFIED:20230615T183347Z
UID:3261-1665597600-1665597600@napafirewise.org
SUMMARY:Napa County Wildfire Forum with Napa Firewise
DESCRIPTION:Our video replay is now available:\n\n\n\n\n\n\n\n\n\nWildfire is Inevitable. Preparation is SMART. We’ll Show You How!\n\n\n\nNapa County Wildfire Forum with Napa Firewise\n\n\n\nWednesday\, October 12\, 2022\, 6PM-7PM – Zoom Webinar\n\n\n\nAn informative\, concise overview on wildfire preparedness in Napa County\, presented by the Napa Firewise (Napa Communities Firewise Foundation\, or NCFF) team and CAL FIRE Napa County Fire. You won’t want to miss this informative wildfire preparation event featuring experts from Napa Firewise! \n\n\n\nTopics:\n\n\n\nWildfire risk in Napa CountyWho is Napa Firewise\, and what are we doing?It’s a WRAP! How to make Napa County more wildfire resilientMoney: Why we need it\, how we get it\, how we put it to workHow to make your property more Firewise\, and why it mattersWhat’s a Fire Safe Council\, and how to get involvedInnovative Pilot Programs: Defensible Space Cost Sharing and Reflect to Protect 911 Signage\n\n\n\nQ & A\n\n\n\nSpeakers:\n\n\n\n\n\n\n\n\n\nGretchen Hayes\,NCFF Executive Director \n\n\n\n\n\n\n\n\n\nJC Greenberg\,CAL FIRE Napa County Fire / Napa County \n\n\n\n\n\n\n\n\n\nMike WilsonNCFF Vegetation Management Program \n\n\n\n\n\n\n\n\n\n\n\nChristopher Thompson\,President & volunteer firefighter\, Napa Firewise \n\n\n\n\n\n\n\n\n\nShari Gardner\,Wildfire Preparedness Program Director\, Napa Firewise \n\n\n\n\n\n\n\n\n\nPiper Cole\,Calistoga Fire Safe Council Co-Lead\, Napa Firewise Board Member
URL:https://napafirewise.org/event/community-wildfire-forum/
LOCATION:California
END:VEVENT
END:VCALENDAR