BEGIN:VCALENDAR
VERSION:2.0
PRODID:-//Napa Communities Firewise Foundation - ECPv6.15.20//NONSGML v1.0//EN
CALSCALE:GREGORIAN
METHOD:PUBLISH
X-ORIGINAL-URL:https://napafirewise.org
X-WR-CALDESC:Events for Napa Communities Firewise Foundation
REFRESH-INTERVAL;VALUE=DURATION:PT1H
X-Robots-Tag:noindex
X-PUBLISHED-TTL:PT1H
BEGIN:VTIMEZONE
TZID:America/Los_Angeles
BEGIN:DAYLIGHT
TZOFFSETFROM:-0800
TZOFFSETTO:-0700
TZNAME:PDT
DTSTART:20210314T100000
END:DAYLIGHT
BEGIN:STANDARD
TZOFFSETFROM:-0700
TZOFFSETTO:-0800
TZNAME:PST
DTSTART:20211107T090000
END:STANDARD
BEGIN:DAYLIGHT
TZOFFSETFROM:-0800
TZOFFSETTO:-0700
TZNAME:PDT
DTSTART:20220313T100000
END:DAYLIGHT
BEGIN:STANDARD
TZOFFSETFROM:-0700
TZOFFSETTO:-0800
TZNAME:PST
DTSTART:20221106T090000
END:STANDARD
BEGIN:DAYLIGHT
TZOFFSETFROM:-0800
TZOFFSETTO:-0700
TZNAME:PDT
DTSTART:20230312T100000
END:DAYLIGHT
BEGIN:STANDARD
TZOFFSETFROM:-0700
TZOFFSETTO:-0800
TZNAME:PST
DTSTART:20231105T090000
END:STANDARD
END:VTIMEZONE
BEGIN:VEVENT
DTSTART;TZID=America/Los_Angeles:20221117T080000
DTEND;TZID=America/Los_Angeles:20221117T170000
DTSTAMP:20260422T223835
CREATED:20221115T182327Z
LAST-MODIFIED:20250327T221911Z
UID:3738-1668672000-1668704400@napafirewise.org
SUMMARY:Napa County Community Outreach Meeting
DESCRIPTION:HOW TO WATCH OR LISTEN TO THE NAPA COUNTY COMMUNITY OUTREACH MEETING ON THE CALIFORNIA BOARD OF FORESTRY STATE MINIMUM FIRE SAFE REGULATIONS\nTo participate in the Napa County community outreach meeting\, the public are invited to observe and address County Officials in-person\, telephonically or electronically. Instructions for public participation are below: \nPLEASE SEE INSTRUCTIONS BELOW FOR VIRTUAL/TELEPHONIC ATTENDANCE. \nNapa County realizes that not all County residents have the same ways to stay engaged\, so several alternatives are offered. Please watch or listen to the Napa County community outreach meeting in one of the following ways: \n\nListen on your phone – via Zoom at 1-669-900-6833 Enter Meeting ID (840 4063 3173) once you have joined the meeting.\nWatch via the Internet – view the Live Stream via Zoom by https://www.zoom.us/join\, then enter Meeting ID(840 4063 3173).\n\n\n\n\nYou may submit public comment as follows: \n\n\n\n\nVia Email \n\n\n\n\nPlease provide your name and the item on which you are commenting \n\n\n\n\nSend your comment to the following email address: Engineering@countyofnapa.org. Please provide your name and indicate the agenda item upon which you are commenting. Emails received will not beread aloud but will still become part of the public record. \n\n\n  \n\n\nOnline \n\n\n\n\n\nUse the Zoom attendee link: https://countyofnapa.zoom.us/j/84040633173. Make sure the browser is up to date.\nEnter an email address and following naming convention: Item #\, First Name Last Name (Ex:7A John Smith)\nWhen the meeting Chair calls for the item on which you wish to speak\, click “raise hand.” Mute all other audiobefore speaking to avoid feedback.\nWhen called\, please limit your remarks to three minutes. After the comment\, your microphone will bemuted.\n\n\n\n  \nBy Phone \n\n\n\n\n1. Call the Zoom phone number and enter the webinar ID: 1-669-900-6833 Enter Meeting ID 840-4063-3173 \n\n\n\n\n\n\n2. When the Chair calls for the item on which you wish to speak\, press *9 to raise a hand. **Please note that phone numbers in their entirety will be visible online while speakers are speaking. ** \nIf you have any questions\,contact us via telephone at (707)-253-4417 or send an email to \nEngineering@countyofnapa.
URL:https://napafirewise.org/event/napa-county-community-outreach-meeting/
LOCATION:California
END:VEVENT
BEGIN:VEVENT
DTSTART;VALUE=DATE:20221128
DTEND;VALUE=DATE:20221202
DTSTAMP:20260422T223835
CREATED:20221108T201133Z
LAST-MODIFIED:20221108T203412Z
UID:3682-1669593600-1669939199@napafirewise.org
SUMMARY:Basic Wildland Fire Fighter Type 2 Training Course
DESCRIPTION:Apply Now for Basic Wildland Fire Fighter Type 2 Training Course\n\n\n\nWe are pleased to announce two upcoming trainings for professionals whose work can help increase the pace and scale of vegetation and fuels treatment in California. \n\n\n\nIn this week-long online and field course\, participants will learn the basic principles of Wildland Fire Behavior and Wildland Fire Science. This training course meets the S-130\, S-190\, and L-180 requirements outlined by the National Wildfire Coordinating Group (NWCG). Typically\, people take this course because they are pursuing national or state certification for work with wildland fires. Successful completion of this course can satisfy prerequisites for more advanced courses and certification.
URL:https://napafirewise.org/event/basic-wildland-fire-fighter-type-2-training-course/
LOCATION:California
ATTACH;FMTTYPE=image/jpeg:https://napafirewise.org/wp-content/uploads/2019/11/IMG_4967.jpg
END:VEVENT
END:VCALENDAR