BEGIN:VCALENDAR
VERSION:2.0
PRODID:-//Napa Communities Firewise Foundation - ECPv6.15.20//NONSGML v1.0//EN
CALSCALE:GREGORIAN
METHOD:PUBLISH
X-ORIGINAL-URL:https://napafirewise.org
X-WR-CALDESC:Events for Napa Communities Firewise Foundation
REFRESH-INTERVAL;VALUE=DURATION:PT1H
X-Robots-Tag:noindex
X-PUBLISHED-TTL:PT1H
BEGIN:VTIMEZONE
TZID:America/Los_Angeles
BEGIN:DAYLIGHT
TZOFFSETFROM:-0800
TZOFFSETTO:-0700
TZNAME:PDT
DTSTART:20220313T100000
END:DAYLIGHT
BEGIN:STANDARD
TZOFFSETFROM:-0700
TZOFFSETTO:-0800
TZNAME:PST
DTSTART:20221106T090000
END:STANDARD
BEGIN:DAYLIGHT
TZOFFSETFROM:-0800
TZOFFSETTO:-0700
TZNAME:PDT
DTSTART:20230312T100000
END:DAYLIGHT
BEGIN:STANDARD
TZOFFSETFROM:-0700
TZOFFSETTO:-0800
TZNAME:PST
DTSTART:20231105T090000
END:STANDARD
BEGIN:DAYLIGHT
TZOFFSETFROM:-0800
TZOFFSETTO:-0700
TZNAME:PDT
DTSTART:20240310T100000
END:DAYLIGHT
BEGIN:STANDARD
TZOFFSETFROM:-0700
TZOFFSETTO:-0800
TZNAME:PST
DTSTART:20241103T090000
END:STANDARD
END:VTIMEZONE
BEGIN:VEVENT
DTSTART;TZID=America/Los_Angeles:20230109T140000
DTEND;TZID=America/Los_Angeles:20230109T150000
DTSTAMP:20260422T193649
CREATED:20230106T215929Z
LAST-MODIFIED:20230615T183346Z
UID:3919-1673272800-1673276400@napafirewise.org
SUMMARY:Napa Fire Hazard Severity Zone Maps - Public Comment
DESCRIPTION:CAL FIRE Releases Updated Fire Hazard Severity Zone Map for Public Comment\n\n\n\nAfter years of planning and collaboration with fire scientists\, firefighters\, stakeholders\, and local community partners\, the new map reflects changes in fire hazard in unincorporated\, rural areas\, as experienced in California over past years. \n\n\n\nJoin CAL FIRE at the Napa County Library in Napa on Monday\, January 9\, at 2:00pm for a public hearing and have an opportunity to provide comment and feedback on their new fire hazard severity zone maps. \n\n\n\nThe last time these maps were updated was in 2007 and now 2023 will provide the new updated version available publicly.  This process will allow you as the public to provide verbal comments prior to final adoption by the State. There is also an avenue for written comments to be submitted during the 45-day period (ending Feb 3\, 2023)\, or submit both written/verbal. \n\n\n\nThe Legislature mandates the State Fire Marshal designate fire hazard severity zones and assign to each zone a rating reflecting the degree of severity of fire hazard. \n\n\n\nFire Hazard Severity Zone maps are developed using a science-based and field-tested model. With the new update the latest technology and science are being included into the maps and will include new factors like land use changes\, significant extreme wind event data\, as well as a model that is more spatially detailed. \n\n\n\nInterested in how these proposed changes affect you? Type in your address to see the change difference between 2007 and 2023. \n\n\n\nAdditional Information: \n\n\n\nFHSZ News Release_2022 \n\n\n\nFHSZ Info Sheet \n\n\n\nFHSZ FAQs 2022
URL:https://napafirewise.org/event/napa-fire-hazard-severity-zone-maps-public-comment/
LOCATION:Napa County Library\, 580 Coombs Street\, Napa\, CA\, United States
END:VEVENT
BEGIN:VEVENT
DTSTART;TZID=America/Los_Angeles:20230118T090000
DTEND;TZID=America/Los_Angeles:20230118T120000
DTSTAMP:20260422T193649
CREATED:20230106T223811Z
LAST-MODIFIED:20230615T183345Z
UID:3933-1674032400-1674043200@napafirewise.org
SUMMARY:Sesión Informativa de Ag Pass 2023
DESCRIPTION:El Comisionado Agrícola del Condado de Napa facilitará una Sesión Informativa de Ag Pass para los titulares de Ag Pass 2023 con presentaciones de Napa County Fire\, Napa County Sheriff y la Extensión Cooperativa de la Universidad de California. \n\n\n\nBienvenida y Introducción \n\n\n\nTracy Cleveland\, Comisionada Agrícola del Condado de Napa \n\n\n\nSeguridad Contra Incendios Forestales de Ag Pass \n\n\n\nErick Hernandez\, Oficial de Cumplimiento del Código con la Oficina del Jefe de Bomberos \n\n\n\nPreparación Para Desastres Para las Operaciones de Ganado Comercial \n\n\n\nMorgan Doran\, Extensión Cooperativa UC\, Asesor de Ganadería y Recursos Naturales \n\n\n\nÁreas de Evacuación\, Seguridad General \n\n\n\nOscar Ortiz\, Sheriff del Condado de Napa \n\n\n\n\nRegístrate Ahora
URL:https://napafirewise.org/event/sesion-informativa-de-ag-pass-2023/
LOCATION:Napa Valley College
END:VEVENT
BEGIN:VEVENT
DTSTART;TZID=America/Los_Angeles:20230118T130000
DTEND;TZID=America/Los_Angeles:20230118T160000
DTSTAMP:20260422T193649
CREATED:20230106T222544Z
LAST-MODIFIED:20230615T183344Z
UID:3915-1674046800-1674057600@napafirewise.org
SUMMARY:2023 Ag Pass Informational Session
DESCRIPTION:The Napa County Agricultural Commissioner will be facilitating an Ag Pass Informational Session for 2023 Ag Pass holders with presentations by Napa County Fire\, Napa County Sheriff\, and University of California Cooperative Extension. \n\n\n\n\nThese informational sessions are highly recommended for anyone requesting an Ag Pass in 2023.\n\n\n\nDue to limited available space\, registration is required to attend.\n\n\n\nAttendance is open to all\, but those persons who will sign the Ag Pass\, and are responsible for employee safety & training\, should attend.\n\n\n\nCritical information will be shared from the UC\, Napa County Sheriff’s Office\, and Fire Department.\n\n\n\n\n\nRegister Now\n\n\n\n\nInstructions for Ag Businesses \n\n\n\nCommercial ag producers with issued 2022 Operator IDs or Restricted Materials permits have direct access to the 2022 Approval of Essential Ag Activities verification card through CalAgPermits.  \n\n\n\n\nNeed assistance? Watch our instructional video or view the help document (PDF) to learn how to print your verification card and related documents.\n\n\n\nWatch our instructional video or view the help document (PDF) to learn how to fill out your ag verification card.\n\n\n\nAg Pass program FAQs (PDF)\n\n\n\nEmergency Preparedness for You\, Your Family\, and Your Animals (video)\n\n\n\n\n 
URL:https://napafirewise.org/event/2023-ag-pass-informational-session/
LOCATION:Napa Valley College
END:VEVENT
BEGIN:VEVENT
DTSTART;TZID=America/Los_Angeles:20230119T000000
DTEND;TZID=America/Los_Angeles:20230119T235959
DTSTAMP:20260422T193649
CREATED:20221025T154056Z
LAST-MODIFIED:20221027T175832Z
UID:3638-1674086400-1674172799@napafirewise.org
SUMMARY:California Forest Stewardship Workshop
DESCRIPTION:Online beginning January 19\, 2023 – March 16\, 2023 and in-person Saturday\, February 4th Napa County. \n\n\n\nJoin the workshop to understand and protect your forests by developing a Forest Management Plan.\n\n\n\nTopics include: \n\n\n\nForest management objectives and planningForest health\, insects and diseaseForest and fire ecology\, wildlife\, watershedsFuels reduction and forest resource marketingMapping\, inventory and silvicultureProject development & permittingGetting professional help and cost-share opportunities\n\n\n\nHosted by:\n\n\n\nUniversity of California Cooperative Extension\n\n\n\nin collaboration with: \n\n\n\nAmerican Forest FoundationCAL FIRECalifornia Association of Resource Conservation DistrictsCalifornia Fire Safe CouncilForest Landowners of CaliforniaUSFS Region 5\n\n\n\n\nDownload Flyer
URL:https://napafirewise.org/event/california-forest-stewardship-workshop/
LOCATION:California
ATTACH;FMTTYPE=image/jpeg:https://napafirewise.org/wp-content/uploads/2019/04/napa-firewise_346394540.jpg
END:VEVENT
BEGIN:VEVENT
DTSTART;TZID=America/Los_Angeles:20230125T180000
DTEND;TZID=America/Los_Angeles:20230125T180000
DTSTAMP:20260422T193649
CREATED:20230115T035253Z
LAST-MODIFIED:20230615T183343Z
UID:3945-1674669600-1674669600@napafirewise.org
SUMMARY:Napa County Invites the Community to Participate in Virtual Town Hall Meeting
DESCRIPTION:The community is invited to participate in a virtual Town Hall meeting on Wednesday\, January 25\, at 6 p.m. to discuss current and future fire services provided by Napa County. \n\n\n\nNapa County Fire Department is conducting a study\, known as a Fire Master Plan\, to take a comprehensive look at all aspects of the needs of the community and how adequately the Department meets these needs. The study is being conducted by Wyoming-based AP Triton\, an industry-leading consultant specializing in fire department master planning. \n\n\n\nThe purpose of a Long-Range Master Plan is to evaluate the County Fire Department in relation to the community’s current risks\, anticipate community growth (and therefore associated risk)\, and recommend solutions. The study will review fire department response data\, department staffing levels\, apparatus and station conditions and locations\, and the County’s unique hazards and infrastructure. The study is intended to position the County to address that growth in advance with appropriate resources and infrastructure.   \n\n\n\nDeputy Fire Chief Jason Martin will host the virtual meeting\, with AP Triton’s consultants moderating and providing an overview of the project. At the conclusion of the meeting\, the consultants will launch a survey to provide further opportunities for community input.  \n\n\n\nThe Virtual Town Hall will be held on Wednesday\, January 25\, 2023\, at 6 p.m. on Zoom. Passcode: 856614. All community members will be encouraged to participate in the survey\, which will be available immediately after the Town Hall. \n\n\n\n\nJoin Zoom Meeting\n\n\n\nTake Survey
URL:https://napafirewise.org/event/napa-county-invites-the-community-to-participate-in-virtual-town-hall-meeting/
LOCATION:California
END:VEVENT
BEGIN:VEVENT
DTSTART;TZID=America/Los_Angeles:20230131T180000
DTEND;TZID=America/Los_Angeles:20230131T200000
DTSTAMP:20260422T193649
CREATED:20221213T000504Z
LAST-MODIFIED:20230227T235818Z
UID:3828-1675188000-1675195200@napafirewise.org
SUMMARY:Pile Burn Workshop
DESCRIPTION:Winter can be a great time pile burning brush and other woody fuels around your home. Learn how to construct and prepare hand piles take skill and an understanding of safety and weather considerations to minimize the risk of escape.\n\nThis two-part class will cover fundamental topics to hand pile burning such as:\n\n 	Safety and liability considerations\n 	Weather conditions and interpretation\n 	Navigating the permitting process\n\nThere will also be in-person local demonstrations for gaining hands-on skills. Whether you have been burning piles for years or are just getting started\, this class has something for everyone! For questions\, please contact Katie Low (katlow@ucanr.edu).\n\n\n\n\nPart One: Hand Pile Burning Fundamentals Webinar\n\nDate & Time: January 31st\, 2023 from 6-8 PM PST.\nFormat: Free Zoom-based webinar.\nSign up by January 30\, 2023\n\nPart Two: In-Person Hand Pile Burning Field Demonstrations\n\nDate & Time: TBD; dates\, locations\, and registration to be announced soon! Format: Hands-on\, skills-based field day at different locations across the State. Field Day will cost $10.\n\n\n\n\nNote: you must attend the webinar to attend the in-person demonstrations!\n\n\n\n\n\n\n\n\n\nView Pile Burn Workshop Flyer 
URL:https://napafirewise.org/event/pile-burn-workshop/
LOCATION:California
END:VEVENT
END:VCALENDAR