BEGIN:VCALENDAR
VERSION:2.0
PRODID:-//Napa Communities Firewise Foundation - ECPv6.15.20//NONSGML v1.0//EN
CALSCALE:GREGORIAN
METHOD:PUBLISH
X-ORIGINAL-URL:https://napafirewise.org
X-WR-CALDESC:Events for Napa Communities Firewise Foundation
REFRESH-INTERVAL;VALUE=DURATION:PT1H
X-Robots-Tag:noindex
X-PUBLISHED-TTL:PT1H
BEGIN:VTIMEZONE
TZID:America/Los_Angeles
BEGIN:DAYLIGHT
TZOFFSETFROM:-0800
TZOFFSETTO:-0700
TZNAME:PDT
DTSTART:20220313T100000
END:DAYLIGHT
BEGIN:STANDARD
TZOFFSETFROM:-0700
TZOFFSETTO:-0800
TZNAME:PST
DTSTART:20221106T090000
END:STANDARD
BEGIN:DAYLIGHT
TZOFFSETFROM:-0800
TZOFFSETTO:-0700
TZNAME:PDT
DTSTART:20230312T100000
END:DAYLIGHT
BEGIN:STANDARD
TZOFFSETFROM:-0700
TZOFFSETTO:-0800
TZNAME:PST
DTSTART:20231105T090000
END:STANDARD
BEGIN:DAYLIGHT
TZOFFSETFROM:-0800
TZOFFSETTO:-0700
TZNAME:PDT
DTSTART:20240310T100000
END:DAYLIGHT
BEGIN:STANDARD
TZOFFSETFROM:-0700
TZOFFSETTO:-0800
TZNAME:PST
DTSTART:20241103T090000
END:STANDARD
END:VTIMEZONE
BEGIN:VEVENT
DTSTART;TZID=America/Los_Angeles:20230315T110000
DTEND;TZID=America/Los_Angeles:20230315T120000
DTSTAMP:20260422T165239
CREATED:20230303T192243Z
LAST-MODIFIED:20230317T182014Z
UID:4069-1678878000-1678881600@napafirewise.org
SUMMARY:150-Year Fire Vegetation History Webinar
DESCRIPTION:In this webinar\, historical ecologist Arthur Dawson presents the findings of a three-year CALFIRE-funded study conducted in partnership with Pepperwood\, Mark Tukman\, and Dr. Jim Thorne. Arthur will trace the story of fire and vegetation in the North Bay over the last 150 years. Integrating a wide variety of sources reveals the surprisingly dynamic patterns of chaparral\, hardwood and conifer woodlands in response to wildfire\, timber harvest\, and wildfire suppression. \n\n\n\nIt took generations to set the stage for the catastrophic fires of the last decade. It will take several more to change that trajectory. Altering course is going to require hard work on the ground guided by a deeper understanding of the relationship of fire\, vegetation and the role of human beings in the landscape. \n\n\n\nWebinar Replay\n\n\n\n\nhttps://www.youtube.com/watch?v=FQ4Lr2thEvM\n\n\n\n\n\nWebinar Flyer\n\n\n\nRegister in Advance
URL:https://napafirewise.org/event/150-year-fire-vegetation-history-webinar/
LOCATION:California
END:VEVENT
BEGIN:VEVENT
DTSTART;TZID=America/Los_Angeles:20230316T083000
DTEND;TZID=America/Los_Angeles:20230316T160000
DTSTAMP:20260422T165239
CREATED:20230303T192733Z
LAST-MODIFIED:20230303T193216Z
UID:4058-1678955400-1678982400@napafirewise.org
SUMMARY:Targeted Grazing for Fuel Reduction:
DESCRIPTION:Case Studies from East Bay Regional Park District\n\n\n\n\n\nLearn about targeted grazing as part of a vegetation management and fuels reduction strategy. Join this field workshop to learn from team members from East Bay Regional Park District (EBRPD) and Star Creek Land Stewards. Participants will improve their understanding of why people might choose targeted grazing as part of a vegetation management and fuels reduction strategy\, and how that gets implemented.
URL:https://napafirewise.org/event/targeted-grazing-fuel-reduction/
LOCATION:California
END:VEVENT
BEGIN:VEVENT
DTSTART;TZID=America/Los_Angeles:20230316T140000
DTEND;TZID=America/Los_Angeles:20230316T150000
DTSTAMP:20260422T165239
CREATED:20230310T201632Z
LAST-MODIFIED:20230310T201651Z
UID:4189-1678975200-1678978800@napafirewise.org
SUMMARY:Wildfire Resilience Decision Support Framework
DESCRIPTION:We will be having Molly Oshun from Sonoma Water\, Deanne DiPietro from the Conservation Biology Institute\, and Sashi Sabaratnam from the UCCE on the call to talk about Sonoma County’s Wildfire Resilience Decision Support Framework. It is a set of online tools and resources intended to support the planning and implementation of fuel management projects. \n\n\n\nThe Sonoma County Wildfire Resilience Decision Support Framework provides critical information at multiple scales to support strategic\, ecologically-sensitive fuel management across the region. The Decision Support Framework is part of a county-wide coordinated initiative to prioritize actions and investments by Sonoma Water\, University of California Cooperative Extension\, the Community Wildfire Protection Plan\, and Sonoma County’s Office of Climate Action & Resiliency. \n\n\n\nTwo online decision-support tools make up the Decision Support Framework: \n\n\n\nThe Wildfire Resilience Planner: Strategic Planning at the Landscape Scale \n\n\n\nThe Wildfire Resilience Planner is an online decision support tool that applies a wide range of data from Sonoma County and other sources to help prioritize locations where the reduction of fuels will best protect lives and property\, community infrastructure\, ecosystem services\, and biodiversity. The tool will support collaborative planning of projects on public and private land\, helping to leverage individual efforts for a unified and strategic approach to fuels reduction and vegetation management. This tool is available for testing and will be released in Spring 2023. \n\n\n\nThe Wildfire Fuel Mapper: Property-Specific Information for Fuels Management \n\n\n\nThe University of California Cooperative Extension\, Pepperwood Preserve\, and Tukman Geospatial have developed the Wildfire Fuel Mapper\, a website that provides maps\, information\, and resources for designing and implementing projects to reduce wildland fuels. A detailed report with maps of vegetation\, fuels\, topography\, and other characteristics of the land needed for project planning are available by parcel\, which the user can access by choosing the parcel of interest. The Fuel Mapper also provides information about experts\, specialists\, and funding sources to support project implementation. 
URL:https://napafirewise.org/event/wildfire-resilience-decision-support-framework/
LOCATION:California
END:VEVENT
BEGIN:VEVENT
DTSTART;TZID=America/Los_Angeles:20230317T100000
DTEND;TZID=America/Los_Angeles:20230317T100000
DTSTAMP:20260422T165239
CREATED:20230316T212151Z
LAST-MODIFIED:20230316T214903Z
UID:4308-1679047200-1679047200@napafirewise.org
SUMMARY:Fuels Reduction Workshop
DESCRIPTION:Join Napa County Fire\, Napa Firewise and Hennessey Rector FSC for a site tour of fuels reduction projects and an educational class about fire resiliency. \n\n\n\nWhere: Lake Hennessey Boat Launch1525 Sage Canyon Rd\, St. Helena \n\n\n\nTo RSVP or send questions to Erick Hernandez of NCFD \n\n\n\n\nGet Details
URL:https://napafirewise.org/event/fuels-reduction-workshop/
LOCATION:California
END:VEVENT
BEGIN:VEVENT
DTSTART;TZID=America/Los_Angeles:20230324T160000
DTEND;TZID=America/Los_Angeles:20230324T180000
DTSTAMP:20260422T165239
CREATED:20230306T204802Z
LAST-MODIFIED:20230306T204804Z
UID:4060-1679673600-1679680800@napafirewise.org
SUMMARY:Fire Friday: Discussion about burning issues
DESCRIPTION:Learn about ecological stewardship and intentional fire. Learn how to increase the use of intentional fire. Join this webinar to learn from member of the California Indian Basketweavers Association (CIBA) and the founders of Torchbearr. Participants will improve their understanding of how to bring more people together to learn how to increase the use of intentional fire.
URL:https://napafirewise.org/event/fire-friday-discussion-about-burning-issues/
LOCATION:California
END:VEVENT
END:VCALENDAR