BEGIN:VCALENDAR
VERSION:2.0
PRODID:-//Napa Communities Firewise Foundation - ECPv6.15.20//NONSGML v1.0//EN
CALSCALE:GREGORIAN
METHOD:PUBLISH
X-ORIGINAL-URL:https://napafirewise.org
X-WR-CALDESC:Events for Napa Communities Firewise Foundation
REFRESH-INTERVAL;VALUE=DURATION:PT1H
X-Robots-Tag:noindex
X-PUBLISHED-TTL:PT1H
BEGIN:VTIMEZONE
TZID:America/Los_Angeles
BEGIN:DAYLIGHT
TZOFFSETFROM:-0800
TZOFFSETTO:-0700
TZNAME:PDT
DTSTART:20220313T100000
END:DAYLIGHT
BEGIN:STANDARD
TZOFFSETFROM:-0700
TZOFFSETTO:-0800
TZNAME:PST
DTSTART:20221106T090000
END:STANDARD
BEGIN:DAYLIGHT
TZOFFSETFROM:-0800
TZOFFSETTO:-0700
TZNAME:PDT
DTSTART:20230312T100000
END:DAYLIGHT
BEGIN:STANDARD
TZOFFSETFROM:-0700
TZOFFSETTO:-0800
TZNAME:PST
DTSTART:20231105T090000
END:STANDARD
BEGIN:DAYLIGHT
TZOFFSETFROM:-0800
TZOFFSETTO:-0700
TZNAME:PDT
DTSTART:20240310T100000
END:DAYLIGHT
BEGIN:STANDARD
TZOFFSETFROM:-0700
TZOFFSETTO:-0800
TZNAME:PST
DTSTART:20241103T090000
END:STANDARD
END:VTIMEZONE
BEGIN:VEVENT
DTSTART;TZID=America/Los_Angeles:20230420T120000
DTEND;TZID=America/Los_Angeles:20230601T120000
DTSTAMP:20260422T135304
CREATED:20230301T210749Z
LAST-MODIFIED:20230615T183341Z
UID:4027-1681992000-1685620800@napafirewise.org
SUMMARY:Post-Fire Forest Resilience Workshop
DESCRIPTION:Save the Date! \n\n\n\nRegister now for California Post-Fire Forest Resilience Workshop in Napa County\n\n\n\nOnline weekly Thursdays 6:00pm – 7:30pm\, April 20th to June 1st  \n\n\n\n In-person field trips on Friday June 2nd and Saturday June 3rd \n\n\n\n\n\nLearn about managing forestland after wildfire:• Increasing forest disturbances• Post-wildfire issues: erosion\, invasives\, hazard trees\, fuels• Reforestation: how and when?• Financial and professional assistance for landowners• Safety and erosion control for the short and long term• Removing dead trees/ salvage logging/ slash treatment• Reforestation/seedling orders/ climate change/ planting• Managing competing vegetation re-sprouting vegetation• On-going forest maintenance \n\n\n\n\n\nHosted by:University of CaliforniaCooperative Extension in collaboration with:CAL FIRECalifornia Association of Resource Conservation DistrictsUnited States Forest Service \n\n\n\n\n\n\nView Workshop Flyer
URL:https://napafirewise.org/event/post-fire-forest-resilience-workshop/
END:VEVENT
BEGIN:VEVENT
DTSTART;TZID=America/Los_Angeles:20230504T100000
DTEND;TZID=America/Los_Angeles:20230504T123000
DTSTAMP:20260422T135304
CREATED:20230303T192604Z
LAST-MODIFIED:20230303T192606Z
UID:4055-1683194400-1683203400@napafirewise.org
SUMMARY:Shaded Fuel Breaks: Lessons Learned Post Wildfire in the San Vicente Redwoods
DESCRIPTION:Join a variety of practitioners who come together to manage fuels on private conservation land critically located adjacent to high-fire risk communities in the Santa Cruz Mountains. Together\, these individuals work with representatives of four land trusts to effectively demonstrate that land conservation\, fire resiliency\, and public access can successfully co-exist.
URL:https://napafirewise.org/event/shaded-fuel-breaks-lessons-learned-post-wildfire-in-the-san-vicente-redwoods/
END:VEVENT
BEGIN:VEVENT
DTSTART;TZID=America/Los_Angeles:20230504T180000
DTEND;TZID=America/Los_Angeles:20230504T190000
DTSTAMP:20260422T135304
CREATED:20230418T220559Z
LAST-MODIFIED:20230615T183250Z
UID:4611-1683223200-1683226800@napafirewise.org
SUMMARY:Resilient Landscaping for Drought and Fire Protection - Napa
DESCRIPTION:(IN PERSON) Library Talk – Learn about resilient landscaping for both drought and fire protection. \nUC Master Gardeners will discuss practical ideas that you can apply immediately for an aesthetically pleasing\, yet protected landscape. They will also provide you with  resources for more information on this and related fire and drought-preventive topics. \n  \nRegister Today!
URL:https://napafirewise.org/event/resilient-landscaping-for-drought-and-fire-protection-napa/
LOCATION:Napa County Library\, 580 Coombs Street\, Napa\, CA\, United States
END:VEVENT
BEGIN:VEVENT
DTSTART;TZID=America/Los_Angeles:20230504T190000
DTEND;TZID=America/Los_Angeles:20230504T190000
DTSTAMP:20260422T135304
CREATED:20230328T163700Z
LAST-MODIFIED:20230615T183249Z
UID:4387-1683226800-1683226800@napafirewise.org
SUMMARY:Resilient gardening for Drought and Fire Protection
DESCRIPTION:Learn about resilient landscaping for both drought and fire protection. We will discuss practical ideas that you can apply immediately for an aesthetically-pleasing\, yet protected landscape. UC Master Gardeners will also provide you with many good resources for more information on this and related fire- and drought-preventive topics. \n\n\n\nThis is a FREE IN-PERSON event but please pre-register below to attend. \n\n\n\n\nRegister Now
URL:https://napafirewise.org/event/resilient-gardening-for-drought-and-fire-protection/
LOCATION:Napa County Library\, 580 Coombs Street\, Napa\, CA\, United States
END:VEVENT
BEGIN:VEVENT
DTSTART;TZID=America/Los_Angeles:20230505T083000
DTEND;TZID=America/Los_Angeles:20230505T160000
DTSTAMP:20260422T135304
CREATED:20230428T063615Z
LAST-MODIFIED:20230615T183249Z
UID:4669-1683275400-1683302400@napafirewise.org
SUMMARY:Climate Science Seminar Part 1
DESCRIPTION:The Climate Science Seminar Part 1 is a one-day interactive workshop taught by Professor Andrew Isaacs. This seminar is modeled after his semester-long MBA course “Climate Change and Business Strategy\,” which he teaches at UC Berkeley’s Haas School of Business. \nThis 30-person workshop is intended for individuals with an interest in how climate change is impacting business\, and how business sustainability depends both on mitigating climate impacts and on adaptation to ongoing climate change. All attendees will leave with a better understanding of climate science and the risks and opportunities climate change poses for wine businesses. While the course does not shy away from using scientific terms\, the material is easily accessible\, and no prior familiarity with climate science is assumed. \nLunch will be provided. \nRegistration is available on the Napa Valley Grapegrowers website. To encourage more folks to spend the day learning about climate science\, NVG would like to extend a discount of 35% off general admission. To utilize this discount\, enter NVGPartner at checkout.
URL:https://napafirewise.org/event/climate-science-seminar-part-1/
LOCATION:Farmstead at Long Meadow Ranch\, 738 Main Street\, St. Helena\, CA\, 94574\, United States
ORGANIZER;CN="Napa Valley Grapegrowers":MAILTO:info@napagrowers.org
END:VEVENT
BEGIN:VEVENT
DTSTART;TZID=America/Los_Angeles:20230509T190000
DTEND;TZID=America/Los_Angeles:20230509T203000
DTSTAMP:20260422T135304
CREATED:20230508T170243Z
LAST-MODIFIED:20250319T223410Z
UID:4704-1683658800-1683664200@napafirewise.org
SUMMARY:Angwin FSC Meeting
DESCRIPTION:AFSC Meeting Agenda\n\n\n\n\nReport/Comment from County and Fire Officials (optional)\n\n\n\nNCFF Presentation on Large-scale Mitigation Projects and Decision-Making Processes Related to Angwin and Napa County Projects\n\n\n\nReport/Update on PUC Forest Health Grant and PUC Campus Fuel Break Projects – Peter\n\n\n\nReflect to Protect Project Description\, Timeline\, Status\, Action Needed – Linda\n\n\n\nMembership\, Leadership\, and Meeting Dates\n\n\n\n2023 Planning Document: Activities Needing Attention in 2023 – Margo\n\n\n\nOther
URL:https://napafirewise.org/event/angwin-fsc-meeting-may-2023/
LOCATION:Angwin Volunteer Fire Department\, 275 College Ave\, Angwin\, California\, 94508\, United States
END:VEVENT
BEGIN:VEVENT
DTSTART;TZID=America/Los_Angeles:20230512T160000
DTEND;TZID=America/Los_Angeles:20230512T190000
DTSTAMP:20260422T135304
CREATED:20230508T215428Z
LAST-MODIFIED:20230615T183248Z
UID:4710-1683907200-1683918000@napafirewise.org
SUMMARY:Napa County Emergency Preparedness Resource Fairs- Napa
DESCRIPTION:Napa County Administration Building Parking Lot – 1195 Third Street\, Napa (at the intersection of Coombs and 4th streets) \n\n\n\nThe family-friendly events will feature giveaways\, raffles\, a scavenger hunt\, helpful resources\, a kids coloring table and equipment like fire trucks and patrol units. In addition\, staff from county departments\, municipalities and partnering organizations will be present to educate the community\, including the Napa County Agricultural Commissioner’s Office\, Health and Human Services Agency\, County Executive Office\, Office of Emergency Services\, Sheriff’s Office\, Napa County Fire\, Community Emergency Response Team\, Napa Valley Community Organizations Active in Disaster\, Center for Volunteer & Nonprofit Leadership and more.   \n\n\n\nThe Office of Emergency Services will be promoting emergency preparedness\, including the new Alert Napa County. Staff will be on-hand to help the public sign up for the new emergency notification system.  \n\n\n\nFood truck vendors will be present for the public to purchase food and drinks. This event is free to the public. No RSVP is required.
URL:https://napafirewise.org/event/napa-county-emergency-preparedness-resource-fairs-napa/
LOCATION:Napa County Administration Building Parking Lot\, 1195 Third Street\, Napa\, California
END:VEVENT
BEGIN:VEVENT
DTSTART;TZID=America/Los_Angeles:20230518T103000
DTEND;TZID=America/Los_Angeles:20230518T140000
DTSTAMP:20260422T135304
CREATED:20230316T174110Z
LAST-MODIFIED:20230615T183247Z
UID:4328-1684405800-1684418400@napafirewise.org
SUMMARY:Fuels Treatments in the Wildland Urban Interface(WUI)
DESCRIPTION:Sonoma Land Trust’s Laufenburg Ranch Preserve\n\n\n\n\n\nThis is an opportunity to learn about vegetation management for fire fuel reduction and enhancing ecological health in the wildland-urban interface (WUI). Want to learn more about fuel treatments on the WUI? Join this field workshop on Thursday\, May 18th from 10:30am – 2:00pm to learn from team members from Sonoma Land Trust. Participants will improve their knowledge of designing and implementing fuel treatments to increase fire resilience and ecological health on the wildland-urban interface (WUI) using examples at Sonoma Land Trust’s Laufenburg Ranch Preserve.Stewardship Director at Sonoma Land Trust\, Bob Neale\, and Stewardship Senior Project Manager\, Melina Hammar\, will discuss sequencing forest/woodland treatments and explain the importance of implementing defensible space and home hardening as a tool for fire preparedness and infrastructure protection.
URL:https://napafirewise.org/event/fuels-treatments-in-the-wildland-urban-interfacewui/
END:VEVENT
BEGIN:VEVENT
DTSTART;TZID=America/Los_Angeles:20230519T090000
DTEND;TZID=America/Los_Angeles:20230519T123000
DTSTAMP:20260422T135304
CREATED:20230405T211415Z
LAST-MODIFIED:20230615T183247Z
UID:4492-1684486800-1684499400@napafirewise.org
SUMMARY:Prescribed herbivory for fuels reduction
DESCRIPTION:Grazing planning and permitting in the State of California \nAs the State of California has ramped up investments to increase fuel treatments to manage high fuel loads and reduce wildfire risk\, the use of livestock to treat fuels has received increased attention. A variety of funding sources are available to support wildfire prevention projects and activities in and near fire threatened communities that focus on increasing the protection of people\, structures\, and communities. In this workshop\, representatives from CALFIRE (Department of Forestry & Fire Protection)\, CalTrans (Department of Transportation)\, the CDFW (California Department of Fish & Wildlife)\, and CP SLO’s (California Polytechnic State University\, San Luis Obispo) Range Program will discuss the steps involved in the development of grazing agreements (‘licenses’) on State lands and beyond. Topics will include requirements for contracting on State lands\, CalTrans encroachment permits\, CDFW grazing agreements\, CEQA (California Environmental Quality Act) processes and requirements\, and general guidelines for developing applications for fuel reduction projects utilizing grazing. \nRegister Today!
URL:https://napafirewise.org/event/prescribed-herbivory-for-fuels-reduction/
END:VEVENT
BEGIN:VEVENT
DTSTART;TZID=America/Los_Angeles:20230519T160000
DTEND;TZID=America/Los_Angeles:20230519T190000
DTSTAMP:20260422T135304
CREATED:20230508T215751Z
LAST-MODIFIED:20230508T215957Z
UID:4714-1684512000-1684522800@napafirewise.org
SUMMARY:Napa County Emergency Preparedness Resource Fairs - St.Helena
DESCRIPTION:The family-friendly events will feature giveaways\, raffles\, a scavenger hunt\, helpful resources\, a kids coloring table and equipment like fire trucks and patrol units. In addition\, staff from county departments\, municipalities and partnering organizations will be present to educate the community\, including the Napa County Agricultural Commissioner’s Office\, Health and Human Services Agency\, County Executive Office\, Office of Emergency Services\, Sheriff’s Office\, Napa County Fire\, Community Emergency Response Team\, Napa Valley Community Organizations Active in Disaster\, Center for Volunteer & Nonprofit Leadership and more.   \n\n\n\nThe Office of Emergency Services will be promoting emergency preparedness\, including the new Alert Napa County. Staff will be on-hand to help the public sign up for the new emergency notification system.  \n\n\n\nFood truck vendors will be present for the public to purchase food and drinks. This event is free to the public. No RSVP is required.
URL:https://napafirewise.org/event/napa-county-emergency-preparedness-resource-fairs-st-helena/
LOCATION:Napa Valley College Upper Valley Campus\, 1088 College Avenue\, St. Helena\, California
END:VEVENT
BEGIN:VEVENT
DTSTART;TZID=America/Los_Angeles:20230521T140000
DTEND;TZID=America/Los_Angeles:20230521T160000
DTSTAMP:20260422T135304
CREATED:20230511T032418Z
LAST-MODIFIED:20250319T223410Z
UID:4738-1684677600-1684684800@napafirewise.org
SUMMARY:PUC Forest Health Field Trip
DESCRIPTION:Napa’s Howell Mountain Corridor: Forest Ecotone and Fire Resiliency Restoration Project\n\n\n\nJoin Napa Firewise and PUC Forest Manager Peter Lecourt and Forest Health Project Manager Tracy Katelman for a walking exploration of the current treatments. \n\n\n\nChris deWet of Vegetation Management Services will showcase some of the equipment and tools that make this work possible. \n\n\n\nMeet us at the PUC Trailhead Parking Lot: Turn left onto the dirt road just past 405 Las Posadas Rd\, Angwin\, CA 94508 \n\n\n\nPack your hiking shoes and a bottle of water. \n\n\n\nMeet & Network with Napa peers from 20 Fire Safe Councils\, local neighbors\, and more. \n\n\n\nPlease RSVP to Jonathan@NapaFirewise.org \n\n\n\n\nView Flyer
URL:https://napafirewise.org/event/puc-forest-health-field-trip/
LOCATION:405 Las Posadas Rd\, 405 Las Posadas Rd\, Angwin\, California\, 94508
END:VEVENT
BEGIN:VEVENT
DTSTART;TZID=America/Los_Angeles:20230523T170000
DTEND;TZID=America/Los_Angeles:20230523T190000
DTSTAMP:20260422T135304
CREATED:20230511T014859Z
LAST-MODIFIED:20230615T182947Z
UID:4724-1684861200-1684868400@napafirewise.org
SUMMARY:Coombsville/Wildhorse Valley Fire Safe Council Community Meeting
DESCRIPTION:JOIN US TO LEARN HOW TO MITIGATE YOUR FIRE RISK. Hot Dogs and Burgers Served! (Thank you for parking on the street) \n\n\n\nWe\, as a community are organizing to help each other learn and actively make our neighborhoods safer from wildfire for our people and our properties. We have worked with fire experts to develop a Community Wildfire Protection Plan (CWPP). \n\n\n\nWe have applied for our fire safe council to be certified as an official Firewise USA® site. We hope that among other benefits this will convince insures to continue to insure our properties and lower our rates.  \n\n\n\nLEARN ALL ABOUT IT! PRESENTATION: FIRE RISK ASSESSMENT & CWPP BY CAROL RICE\, Napa Firewise Consultant. Fire Personnel; Insurance Professional; United Policyholder; COAD & USDA (cost sharing/ conservation) will be AVAILABLE to answer questions. \n\n\n\nPLEASE R.S.V.P. TO EILEEN PEREIRA: Coombsville@napafirewise.org
URL:https://napafirewise.org/event/coombsville-wild-horse-valley-fire-safe-council-community-meeting/
LOCATION:1060 2nd Avenue\, 1060 2nd Avenue\, Napa\, Ca
END:VEVENT
BEGIN:VEVENT
DTSTART;TZID=America/Los_Angeles:20230530T173000
DTEND;TZID=America/Los_Angeles:20230530T190000
DTSTAMP:20260422T135304
CREATED:20230530T211007Z
LAST-MODIFIED:20230615T183246Z
UID:4796-1685467800-1685473200@napafirewise.org
SUMMARY:PG&E Virtual North CoastTown Hall
DESCRIPTION:We’ll share more about our wildfire safety efforts within your region and community resources available to keep you safe. You can ask questions and share your feedback with the local PG&E team. \n\n\n\nWe encourage you to join and:  \n\n\n\n•Learn about our wildfire safety efforts and progress in your community \n\n\n\n•Hear about resources available to support you \n\n\n\n•Connect with PG&E’s regional leadership team\, including Regional Vice President\, Ron Richardson
URL:https://napafirewise.org/event/pge-virtual-north-coasttown-hall/
END:VEVENT
BEGIN:VEVENT
DTSTART;TZID=America/Los_Angeles:20230530T180000
DTEND;TZID=America/Los_Angeles:20230530T190000
DTSTAMP:20260422T135304
CREATED:20230518T025128Z
LAST-MODIFIED:20230615T183245Z
UID:4775-1685469600-1685473200@napafirewise.org
SUMMARY:Wildfire Preparedness Virtual Townhall with Supervisor Alfredo Pedroza
DESCRIPTION:Supervisor Alfredo Pedroza is hosting a virtual Facebook Town Hall meeting about wildfire preparedness. Informing and share resources available as we get closer to fire season. \n\n\n\nGuest Speakers: \n\n\n\nJason Martin – Deputy Chief\, Napa County Fire Department \n\n\n\nErick Hernandez – Fire Marshal\, Napa County Fire Department \n\n\n\nChristopher Thompson – President\, Napa Communities Firewise Foundation
URL:https://napafirewise.org/event/wildfire-preparedness-virtual-townhall-with-supervisor-alfredo-pedroza/
END:VEVENT
END:VCALENDAR