BEGIN:VCALENDAR
VERSION:2.0
PRODID:-//Napa Communities Firewise Foundation - ECPv6.15.20//NONSGML v1.0//EN
CALSCALE:GREGORIAN
METHOD:PUBLISH
X-WR-CALNAME:Napa Communities Firewise Foundation
X-ORIGINAL-URL:https://napafirewise.org
X-WR-CALDESC:Events for Napa Communities Firewise Foundation
REFRESH-INTERVAL;VALUE=DURATION:PT1H
X-Robots-Tag:noindex
X-PUBLISHED-TTL:PT1H
BEGIN:VTIMEZONE
TZID:America/Los_Angeles
BEGIN:DAYLIGHT
TZOFFSETFROM:-0800
TZOFFSETTO:-0700
TZNAME:PDT
DTSTART:20220313T100000
END:DAYLIGHT
BEGIN:STANDARD
TZOFFSETFROM:-0700
TZOFFSETTO:-0800
TZNAME:PST
DTSTART:20221106T090000
END:STANDARD
BEGIN:DAYLIGHT
TZOFFSETFROM:-0800
TZOFFSETTO:-0700
TZNAME:PDT
DTSTART:20230312T100000
END:DAYLIGHT
BEGIN:STANDARD
TZOFFSETFROM:-0700
TZOFFSETTO:-0800
TZNAME:PST
DTSTART:20231105T090000
END:STANDARD
BEGIN:DAYLIGHT
TZOFFSETFROM:-0800
TZOFFSETTO:-0700
TZNAME:PDT
DTSTART:20240310T100000
END:DAYLIGHT
BEGIN:STANDARD
TZOFFSETFROM:-0700
TZOFFSETTO:-0800
TZNAME:PST
DTSTART:20241103T090000
END:STANDARD
END:VTIMEZONE
BEGIN:VEVENT
DTSTART;TZID=America/Los_Angeles:20230420T120000
DTEND;TZID=America/Los_Angeles:20230601T120000
DTSTAMP:20260422T122439
CREATED:20230301T210749Z
LAST-MODIFIED:20230615T183341Z
UID:4027-1681992000-1685620800@napafirewise.org
SUMMARY:Post-Fire Forest Resilience Workshop
DESCRIPTION:Save the Date! \n\n\n\nRegister now for California Post-Fire Forest Resilience Workshop in Napa County\n\n\n\nOnline weekly Thursdays 6:00pm – 7:30pm\, April 20th to June 1st  \n\n\n\n In-person field trips on Friday June 2nd and Saturday June 3rd \n\n\n\n\n\nLearn about managing forestland after wildfire:• Increasing forest disturbances• Post-wildfire issues: erosion\, invasives\, hazard trees\, fuels• Reforestation: how and when?• Financial and professional assistance for landowners• Safety and erosion control for the short and long term• Removing dead trees/ salvage logging/ slash treatment• Reforestation/seedling orders/ climate change/ planting• Managing competing vegetation re-sprouting vegetation• On-going forest maintenance \n\n\n\n\n\nHosted by:University of CaliforniaCooperative Extension in collaboration with:CAL FIRECalifornia Association of Resource Conservation DistrictsUnited States Forest Service \n\n\n\n\n\n\nView Workshop Flyer
URL:https://napafirewise.org/event/post-fire-forest-resilience-workshop/
END:VEVENT
BEGIN:VEVENT
DTSTART;TZID=America/Los_Angeles:20230604T100000
DTEND;TZID=America/Los_Angeles:20230604T120000
DTSTAMP:20260422T122439
CREATED:20230516T204051Z
LAST-MODIFIED:20250319T223410Z
UID:4761-1685872800-1685880000@napafirewise.org
SUMMARY:Reschedule - Forest Health and Fire Resilience Field Day\, Linda Falls
DESCRIPTION:Napa RCD is partnering with Land Trust of Napa County for a guided hike at the Linda Falls Preserve. We will spend time discussing forest health and making personal connections to the environment around us. This experience is open to everyone\, but be aware the we will spend most of our time on a dirt trail. \n\n\n\nWe will meet as a group between 9:45 – 10:00am at the Linda Falls trailhead parking lot on Howell Mountain Road west of the Pacific Union College tennis courts. We’ll start walking to the trail at 10:00am. \n\n\n\nThis event\, along with a webinar on April 26th\, is part of Napa RCD’s two-part Forest Health Workshop. Participants are welcome to join for either one or both events. \n\n\n\nRegistar Today!
URL:https://napafirewise.org/event/reschedule-forest-health-and-fire-resilience-field-day-linda-falls/
LOCATION:Linda Falls Linda Falls Terrace\, Linda Falls Terrace\, Angwin\, 94508
END:VEVENT
BEGIN:VEVENT
DTSTART;TZID=America/Los_Angeles:20230607T090000
DTEND;TZID=America/Los_Angeles:20230607T120000
DTSTAMP:20260422T122439
CREATED:20230517T232326Z
LAST-MODIFIED:20230615T183244Z
UID:4769-1686128400-1686139200@napafirewise.org
SUMMARY:North Coast Forest Biomass Strategy Webinar
DESCRIPTION:Please Join the North Coast Resource Partnership and the Watershed Research and Training Center for a webinar on the North Coast Forest Biomass Strategy. Topics include: \n\n\nOverview of the North Coast Forest Biomass Strategy and Woody Feedstock Aggregation Initiative funded by the Governor’s Office of Planning and Research\nOverview of Funding Opportunities for Community Scale Pilot Projects focused on biomass and woody feedstock utilization.\n\nThis webinar will introduce the North Coast Forest Biomass Strategy Feedstock Aggregation Pilot Project to a broad audience across the North Coast Resource Partnership region – including Tribal lands and counties of Del Norte\, Humboldt\, Mendocino\, Modoc\, Siskiyou\, Sonoma\, and Trinity. The webinar will also provide information on an upcoming Request for Proposals that will fund and support a set of sub-regional pilots. \n\n \n\n\n\nRegister Today!
URL:https://napafirewise.org/event/north-coast-forest-biomass-strategy-webinar/
END:VEVENT
BEGIN:VEVENT
DTSTART;TZID=America/Los_Angeles:20230609T120000
DTEND;TZID=America/Los_Angeles:20230609T120000
DTSTAMP:20260422T122439
CREATED:20230606T175911Z
LAST-MODIFIED:20230615T183242Z
UID:4858-1686312000-1686312000@napafirewise.org
SUMMARY:Keeping Your Home Protected When Insurance Options are Limited and Expensive
DESCRIPTION:Join United Policy Holders webinar on Keeping Your Home Protected When Insurance Options are Limited and Expensive. Topics include: \n\n\n\n-What to do if your insurer non-renews you. \n\n\n\n– Is it safe to insure your home through a company you’ve never heard of? \n\n\n\n– What is the CA Fair Plan and what options does it offer? \n\n\n\n– What fine print matters when buying home insurance? \n\n\n\n– Questions to ask to get adequate protection in place for your home. \n\n\n\n– What can you do to improve your home’s chances of surviving a wildfire? \n\n\n\n\nRegister Today!
URL:https://napafirewise.org/event/keeping-your-home-protected-when-insurance-options-are-limited-and-expensive/
END:VEVENT
BEGIN:VEVENT
DTSTART;TZID=America/Los_Angeles:20230626T173000
DTEND;TZID=America/Los_Angeles:20230626T190000
DTSTAMP:20260422T122439
CREATED:20230626T144401Z
LAST-MODIFIED:20230626T144922Z
UID:5043-1687800600-1687806000@napafirewise.org
SUMMARY:Spring Mountain's Community Wildfire Protection PlanCommunity discussion 
DESCRIPTION:PLEASE JOIN YOUR SPRING MOUNTAIN FIRE SAFE COUNCIL \n\n\n\nTo hear about fire preparedness in your Spring Mountain area!Presentation 5:30 – 6:30\, beverages/bites until 7:00Topic: Spring Mountain’s Community Wildfire Protection PlanCommunity discussion & input on current draft. \n\n\n\nThe Spring Mountain Fire Safe Council (SMFSC) was formed in spring 2021. It is one of 20 Fire Safe Councils in Napa County that help coordinate neighborhood forces to prepare for wildfires by mobilizing residents to protect their homes and properties.   \n\n\n\nThe meeting will begin with a brief overview of Napa FireWise projects for Napa County and then dig into documents specific to SMFSC. \n\n\n\nRSVP requested: info@springmountainfiresafe.org
URL:https://napafirewise.org/event/spring-mountains-community-wildfire-protection-plancommunity-discussion/
END:VEVENT
BEGIN:VEVENT
DTSTART;TZID=America/Los_Angeles:20230628T173000
DTEND;TZID=America/Los_Angeles:20230628T190000
DTSTAMP:20260422T122439
CREATED:20230602T161055Z
LAST-MODIFIED:20230615T183241Z
UID:4805-1687973400-1687978800@napafirewise.org
SUMMARY:PBA Community Meeting
DESCRIPTION:Join University of California Cooperative Extension and Napa RCD for a series of Prescribed Burn Assocation (PBA) community meetings. Learn more about PBAs and talk with other community members interested in starting one in Napa County.
URL:https://napafirewise.org/event/pba-community-meeting/
END:VEVENT
END:VCALENDAR