BEGIN:VCALENDAR
VERSION:2.0
PRODID:-//Napa Communities Firewise Foundation - ECPv6.15.20//NONSGML v1.0//EN
CALSCALE:GREGORIAN
METHOD:PUBLISH
X-WR-CALNAME:Napa Communities Firewise Foundation
X-ORIGINAL-URL:https://napafirewise.org
X-WR-CALDESC:Events for Napa Communities Firewise Foundation
REFRESH-INTERVAL;VALUE=DURATION:PT1H
X-Robots-Tag:noindex
X-PUBLISHED-TTL:PT1H
BEGIN:VTIMEZONE
TZID:America/Los_Angeles
BEGIN:DAYLIGHT
TZOFFSETFROM:-0800
TZOFFSETTO:-0700
TZNAME:PDT
DTSTART:20220313T100000
END:DAYLIGHT
BEGIN:STANDARD
TZOFFSETFROM:-0700
TZOFFSETTO:-0800
TZNAME:PST
DTSTART:20221106T090000
END:STANDARD
BEGIN:DAYLIGHT
TZOFFSETFROM:-0800
TZOFFSETTO:-0700
TZNAME:PDT
DTSTART:20230312T100000
END:DAYLIGHT
BEGIN:STANDARD
TZOFFSETFROM:-0700
TZOFFSETTO:-0800
TZNAME:PST
DTSTART:20231105T090000
END:STANDARD
BEGIN:DAYLIGHT
TZOFFSETFROM:-0800
TZOFFSETTO:-0700
TZNAME:PDT
DTSTART:20240310T100000
END:DAYLIGHT
BEGIN:STANDARD
TZOFFSETFROM:-0700
TZOFFSETTO:-0800
TZNAME:PST
DTSTART:20241103T090000
END:STANDARD
END:VTIMEZONE
BEGIN:VEVENT
DTSTART;TZID=America/Los_Angeles:20230711T163000
DTEND;TZID=America/Los_Angeles:20230711T173000
DTSTAMP:20260422T105055
CREATED:20230418T221400Z
LAST-MODIFIED:20230927T130932Z
UID:4613-1689093000-1689096600@napafirewise.org
SUMMARY:Resilient Landscaping for Drought and Fire Protection - St. Helena
DESCRIPTION:(IN PERSON) Library Talk – Learn about resilient landscaping for both drought and fire protection.\n\nUC Master Gardeners will discuss practical ideas that you can apply immediately for an aesthetically pleasing\, yet protected landscape. They will also provide you with resources for more information on this and related fire and drought-preventive topics.
URL:https://napafirewise.org/event/resilient-landscaping-for-drought-and-fire-protection-st-helena/
LOCATION:St. Helena Library\, 1492 Library Ln #1143\, St. Helena\, CA\, 94574\, United States
END:VEVENT
BEGIN:VEVENT
DTSTART;TZID=America/Los_Angeles:20230716T160000
DTEND;TZID=America/Los_Angeles:20230716T183000
DTSTAMP:20260422T105055
CREATED:20230615T140405Z
LAST-MODIFIED:20230712T170707Z
UID:5010-1689523200-1689532200@napafirewise.org
SUMMARY:Home Winemakers Classic
DESCRIPTION:Join us in celebrating the 40th Annual Home Winemakers Classic!\n\n\n\nThis event originated in 1982 by the Dry Creek-Lokoya Volunteer Fire  Department as an event to raise money for their volunteer efforts.  In 2021\, the Mt. Veeder Fire Safe Council took over the event. What better way to support the MVFSC and by extension\, the Dry Creek-Lokoya Volunteer Fire Department? \n40th Annual Home Winemakers Classic \n\nWines to Taste and Wines to Take Home! \n\nWhile talented home winemakers will pour their unique blends at the Home Winemakers Classic\, coveted wines from commercial wineries will grace the tables of the silent auction.  \nCome be enticed by the likes of: \n\n\n\nHarlan Estate’s 2013 The Maiden Red Blend – One 750ML bottle\n\nSilver Oak 2018 Napa Valley Cabernet Sauvignon – 1.5L Magnum\n\nChappellet Tour and Tasting at Pinnacle of Prichard Hill for 6 people and 1.5L 2019 Cabernet Sauvignon\n\nNickel and Nickel Tour and Tasting for 4 guests\n\nHall Howell Mountain Cabernet Vertical (750 ml) 2013\, 2014 and 2015\n\n…and many more fine vintages\, tasting experiences\, and curated gift items\n\nPreview all auction lots at Silent Auction Pro – Online Bid Items – Grid View \n\nThe silent auction opens online at 5:00pm on July 9th and continues during the live event on July 16. Bid online or in person at the event\, or both!\n \nProceeds from the Home Winemakers Classic benefit Mt. Veeder Firesafe Council and its Neighbors in Need program.
URL:https://napafirewise.org/event/home-winemakers-classic-2023/
LOCATION:Napa Valley Marriott\, 3425 Solano Ave\, Napa\, California\, 94558\, United States
END:VEVENT
BEGIN:VEVENT
DTSTART;TZID=America/Los_Angeles:20230717T173000
DTEND;TZID=America/Los_Angeles:20230717T190000
DTSTAMP:20260422T105055
CREATED:20230710T172553Z
LAST-MODIFIED:20250327T221822Z
UID:5069-1689615000-1689620400@napafirewise.org
SUMMARY:Coombsville Traffic Safety Community Meeting
DESCRIPTION:Join Chair of the Napa County Board of Supervisors Belia Ramos\, alongside the Napa County Sheriff’s Office\, Public Works\, Office of Emergency Services\, and California Highway Patrol to discuss traffic safety in the Coombsville area. There will be an opportunity for Q&A. No RSVP required. \nFor more information\, contact:\nJesus.Tijero@countyofnapa.org\n(707) 253-6170
URL:https://napafirewise.org/event/coombsville-traffic-safety-community-meeting/
LOCATION:Stone Bridge School\, 1019 2nd Ave\, Napa\, CA\, 94558\, United States
END:VEVENT
BEGIN:VEVENT
DTSTART;TZID=America/Los_Angeles:20230718T000000
DTEND;TZID=America/Los_Angeles:20230912T000000
DTSTAMP:20260422T105055
CREATED:20230609T220851Z
LAST-MODIFIED:20230615T183240Z
UID:4885-1689638400-1694476800@napafirewise.org
SUMMARY:Forest Stewardship Workshop Series
DESCRIPTION:Sign up for this online workshop series to better understand and protect your forests by developing a Forest Management Plan. Topics include:  \n\n\n\n• Forest management objectives and planning   \n\n\n\n• Forest health\, insects\, and disease   \n\n\n\n• Forest and fire ecology\, wildlife\, watersheds   \n\n\n\n• Fuels reduction and forest resource marketing   \n\n\n\n• Mapping\, inventory\, and silviculture   \n\n\n\n• Project development & permitting \n\n\n\n• Getting professional help and cost-share opportunities  \n\n\n\nParticipants will utilize online resources on their own time to complete learning modules and short activities. Zoom meetings with all participants and presenters will take place once a week on Tuesdays\, 6-7:30pm.
URL:https://napafirewise.org/event/forest-stewardship-workshop-series/
END:VEVENT
BEGIN:VEVENT
DTSTART;TZID=America/Los_Angeles:20230720T173000
DTEND;TZID=America/Los_Angeles:20230720T190000
DTSTAMP:20260422T105055
CREATED:20230602T144255Z
LAST-MODIFIED:20230724T210417Z
UID:4807-1689874200-1689879600@napafirewise.org
SUMMARY:PBA Community Meetings
DESCRIPTION:Napa RCD and UC Cooperative Extension are working with the community to develop a PBA in Napa County. We are hosting a series of community meetings to talk more about what PBAs do and what it could like look to stand one up in Napa County. These will also be spaces for folks to ask questions\, share concerns/ideas\, get to know their neighbors\, and learn about the importance of reintroducing “good fire” to our landscape. \nRegister Today!
URL:https://napafirewise.org/event/pba-community-meetings/
LOCATION:Seavey Vineyard\, St. Helena\, CA\, United States
END:VEVENT
END:VCALENDAR