BEGIN:VCALENDAR
VERSION:2.0
PRODID:-//Napa Communities Firewise Foundation - ECPv6.15.20//NONSGML v1.0//EN
CALSCALE:GREGORIAN
METHOD:PUBLISH
X-WR-CALNAME:Napa Communities Firewise Foundation
X-ORIGINAL-URL:https://napafirewise.org
X-WR-CALDESC:Events for Napa Communities Firewise Foundation
REFRESH-INTERVAL;VALUE=DURATION:PT1H
X-Robots-Tag:noindex
X-PUBLISHED-TTL:PT1H
BEGIN:VTIMEZONE
TZID:America/Los_Angeles
BEGIN:DAYLIGHT
TZOFFSETFROM:-0800
TZOFFSETTO:-0700
TZNAME:PDT
DTSTART:20230312T100000
END:DAYLIGHT
BEGIN:STANDARD
TZOFFSETFROM:-0700
TZOFFSETTO:-0800
TZNAME:PST
DTSTART:20231105T090000
END:STANDARD
BEGIN:DAYLIGHT
TZOFFSETFROM:-0800
TZOFFSETTO:-0700
TZNAME:PDT
DTSTART:20240310T100000
END:DAYLIGHT
BEGIN:STANDARD
TZOFFSETFROM:-0700
TZOFFSETTO:-0800
TZNAME:PST
DTSTART:20241103T090000
END:STANDARD
BEGIN:DAYLIGHT
TZOFFSETFROM:-0800
TZOFFSETTO:-0700
TZNAME:PDT
DTSTART:20250309T100000
END:DAYLIGHT
BEGIN:STANDARD
TZOFFSETFROM:-0700
TZOFFSETTO:-0800
TZNAME:PST
DTSTART:20251102T090000
END:STANDARD
END:VTIMEZONE
BEGIN:VEVENT
DTSTART;TZID=America/Los_Angeles:20240420T110000
DTEND;TZID=America/Los_Angeles:20240420T160000
DTSTAMP:20260421T192129
CREATED:20240417T225108Z
LAST-MODIFIED:20240417T233803Z
UID:6357-1713610800-1713628800@napafirewise.org
SUMMARY:Earth Day in Napa
DESCRIPTION:Join Shari at the NCFF booth & promote your FSC at the Oxbow Commons to as we celebrate Earth Day! \n  \nDownload Earth Day in Napa Flyer
URL:https://napafirewise.org/event/earth-day-napa-2/
LOCATION:Oxbow Commons\, 1268 McKinstry St\, Napa\, California\, 94559\, United States
END:VEVENT
BEGIN:VEVENT
DTSTART;TZID=America/Los_Angeles:20240421T100000
DTEND;TZID=America/Los_Angeles:20240421T130000
DTSTAMP:20260421T192129
CREATED:20240417T225427Z
LAST-MODIFIED:20240417T234051Z
UID:6359-1713693600-1713704400@napafirewise.org
SUMMARY:Earth Day in American Canyon
DESCRIPTION:Celebrate Earth Day in American Canyon at Wetlands Edge on Sunday\, April 21\, from 10am – 1pm. \nDownload Earth Day in American Canyon Flyer
URL:https://napafirewise.org/event/earth-day-in-american-canyon/
LOCATION:Wetlands Edge\, 2 Eucalyptus Dr\, Wetlands Edge\, CA\, 94503
END:VEVENT
BEGIN:VEVENT
DTSTART;TZID=America/Los_Angeles:20240425T100000
DTEND;TZID=America/Los_Angeles:20240425T150000
DTSTAMP:20260421T192129
CREATED:20240417T230028Z
LAST-MODIFIED:20240417T230046Z
UID:6363-1714039200-1714057200@napafirewise.org
SUMMARY:Prescribed Burn
DESCRIPTION:Join Napa Firewise\, PUC\, Napa Prescribed Burn Assoc. for the Prescribed Burn at PUC Forest\, Angwin on Thursday\, April 25\, 10am-3pm.
URL:https://napafirewise.org/event/prescribed-burn/
LOCATION:PUC Forrest\, 405 Las Posadas Rd\, Angwin\, CA\, 94508
END:VEVENT
BEGIN:VEVENT
DTSTART;TZID=America/Los_Angeles:20240427T090000
DTEND;TZID=America/Los_Angeles:20240427T140000
DTSTAMP:20260421T192129
CREATED:20240411T191646Z
LAST-MODIFIED:20250327T221847Z
UID:6333-1714208400-1714226400@napafirewise.org
SUMMARY:Deer Park Firewise Clean Up Day
DESCRIPTION:Deer Park Firewise will be hosting a community clean up day. Napa County Fire Department will follow up with chipping for us the following week. Please let us know if you or a neighbor is physically unab le to complete the work and we will try to rally volunteers to help. We will also finish with a barbeque. \n\n9am-12pm Clean up – (Remember to sign up for chipping!) Anyone need help? Call Deborah at 707-337-4976\n\n\n12pm-2pm Barbecue – 945 Deer Park Road\, St. Helena
URL:https://napafirewise.org/event/deer-park-firewise-clean-up-day/
END:VEVENT
BEGIN:VEVENT
DTSTART;TZID=America/Los_Angeles:20240427T100000
DTEND;TZID=America/Los_Angeles:20240427T140000
DTSTAMP:20260421T192129
CREATED:20240417T224917Z
LAST-MODIFIED:20240417T225620Z
UID:6351-1714212000-1714226400@napafirewise.org
SUMMARY:ReCoverCA Grant program Intake Event
DESCRIPTION:Funds available! ReCoverCA Wildfire Mitigation Retrofit Program application assistance at the Napa Valley Community Foundation in Napa. If you qualify\, up to $50\,000 is available for home hardening and defensible space\, schedule and bring your documentation\, and specialists from California Housing and Community Development will walk you through the application process. \nDownload Flyer in English \nDownload Flyer in Spanish
URL:https://napafirewise.org/event/recoverca-grant-program-intake-event/
LOCATION:The Napa Valley Community Foundation\, 3299 Claremont Way\, Napa\, CA\, 94558
END:VEVENT
END:VCALENDAR