BEGIN:VCALENDAR
VERSION:2.0
PRODID:-//Napa Communities Firewise Foundation - ECPv6.15.20//NONSGML v1.0//EN
CALSCALE:GREGORIAN
METHOD:PUBLISH
X-WR-CALNAME:Napa Communities Firewise Foundation
X-ORIGINAL-URL:https://napafirewise.org
X-WR-CALDESC:Events for Napa Communities Firewise Foundation
REFRESH-INTERVAL;VALUE=DURATION:PT1H
X-Robots-Tag:noindex
X-PUBLISHED-TTL:PT1H
BEGIN:VTIMEZONE
TZID:America/Los_Angeles
BEGIN:DAYLIGHT
TZOFFSETFROM:-0800
TZOFFSETTO:-0700
TZNAME:PDT
DTSTART:20230312T100000
END:DAYLIGHT
BEGIN:STANDARD
TZOFFSETFROM:-0700
TZOFFSETTO:-0800
TZNAME:PST
DTSTART:20231105T090000
END:STANDARD
BEGIN:DAYLIGHT
TZOFFSETFROM:-0800
TZOFFSETTO:-0700
TZNAME:PDT
DTSTART:20240310T100000
END:DAYLIGHT
BEGIN:STANDARD
TZOFFSETFROM:-0700
TZOFFSETTO:-0800
TZNAME:PST
DTSTART:20241103T090000
END:STANDARD
BEGIN:DAYLIGHT
TZOFFSETFROM:-0800
TZOFFSETTO:-0700
TZNAME:PDT
DTSTART:20250309T100000
END:DAYLIGHT
BEGIN:STANDARD
TZOFFSETFROM:-0700
TZOFFSETTO:-0800
TZNAME:PST
DTSTART:20251102T090000
END:STANDARD
END:VTIMEZONE
BEGIN:VEVENT
DTSTART;VALUE=DATE:20240504
DTEND;VALUE=DATE:20240505
DTSTAMP:20260421T174350
CREATED:20240417T230252Z
LAST-MODIFIED:20240417T230252Z
UID:6366-1714780800-1714867199@napafirewise.org
SUMMARY:Wildfire Preparedness Day
DESCRIPTION:Happy Wildfire Preparedness Day!
URL:https://napafirewise.org/event/wildfire-preparedness-day/
END:VEVENT
BEGIN:VEVENT
DTSTART;TZID=America/Los_Angeles:20240507T180000
DTEND;TZID=America/Los_Angeles:20240507T193000
DTSTAMP:20260421T174350
CREATED:20240417T231832Z
LAST-MODIFIED:20250327T222203Z
UID:6368-1715104800-1715110200@napafirewise.org
SUMMARY:Firesafe & Readiness Community Event
DESCRIPTION:Please join my team and I for a community meeting and resource fair for Deer Park\, Angwin\, Conn Valley\, Pope Valley and Northern Berryessa residents (and any other upvalley folks) TONIGHT\, Tuesday\, May 7 at PUC. We will be talking about emergency readiness and self-sufficiency. I hope you will plan to attend! Spanish translation services will be available.
URL:https://napafirewise.org/event/firesafe-readiness-community-event/
END:VEVENT
BEGIN:VEVENT
DTSTART;TZID=America/Los_Angeles:20240508T170000
DTEND;TZID=America/Los_Angeles:20240508T180000
DTSTAMP:20260421T174350
CREATED:20240417T232320Z
LAST-MODIFIED:20240417T232320Z
UID:6372-1715187600-1715191200@napafirewise.org
SUMMARY:Fire Safe Council Leads Meeting
DESCRIPTION:
URL:https://napafirewise.org/event/fire-safe-council-leads-meeting/
END:VEVENT
BEGIN:VEVENT
DTSTART;TZID=America/Los_Angeles:20240511T093000
DTEND;TZID=America/Los_Angeles:20240511T130000
DTSTAMP:20260421T174350
CREATED:20240513T185433Z
LAST-MODIFIED:20240513T185459Z
UID:6518-1715419800-1715432400@napafirewise.org
SUMMARY:Grazing Workshop
DESCRIPTION:Reaping the Benefits and Managing the Challenges: Saturday\, May 11 9:30am-1:00pm brought to you by the Upper Mark West Fire Safe Council. \nGrazing is a rich and varied endeavor that can offer fuels management\, invasive species reduction\, meat\, milk\, cheese\, fiber and more!!! Learn how Sonoma County land managers are finding the benefits and overcoming challenges of grazing. Free – REGISTRATION REQUIRED Sign up here: Grazing Workshop Registration Space is limited\, Please call 707-765-2639 or email umwfsc@markwestwatershed.org \nRegister here
URL:https://napafirewise.org/event/grazing-workshop/
LOCATION:Pepperwood Preserve\, 2130 Pepperwood Preserve Rd\, Santa Rosa\, CA\, 95404
END:VEVENT
BEGIN:VEVENT
DTSTART;TZID=America/Los_Angeles:20240518T100000
DTEND;TZID=America/Los_Angeles:20240518T140000
DTSTAMP:20260421T174350
CREATED:20240201T004800Z
LAST-MODIFIED:20240513T184047Z
UID:6056-1716026400-1716040800@napafirewise.org
SUMMARY:Fire Safe Fair
DESCRIPTION:Join us for our public Fire Safe Fair event where you get the opportunity to: \n\n\n\n\nRaise funds for mitigation\n\n\n\nbrowse 30 Fire Resource Exhibitors\n\n\n\nmeet Preparedness Experts\n\n\n\nlearn how to protect your home & design a fire safe yard\n\n\n\nlisten our guest speakers Senator Bill Dodd\, Chief Marcucci\, and Napa County Fire Administator\, David Shew.\n\n\nDownload Flyer
URL:https://napafirewise.org/event/fire-safe-fair-2024/
LOCATION:Silverado Resort Mansion Garden Tent\, 1600 Atlas Peak Rd\, Napa\, CA\, 94558\, United States
END:VEVENT
BEGIN:VEVENT
DTSTART;TZID=America/Los_Angeles:20240519T080000
DTEND;TZID=America/Los_Angeles:20240519T103000
DTSTAMP:20260421T174350
CREATED:20240417T233555Z
LAST-MODIFIED:20240513T211517Z
UID:6380-1716105600-1716114600@napafirewise.org
SUMMARY:Mt. Veeder Fire Safe Council Pancake Breakfast
DESCRIPTION:Join Mt. Veeder Fire Safe Council for the annual Pancake Breakfast  and neighborhood meeting.
URL:https://napafirewise.org/event/mt-veeder-fire-safe-council-pancake-breakfast/
END:VEVENT
BEGIN:VEVENT
DTSTART;TZID=America/Los_Angeles:20240519T080000
DTEND;TZID=America/Los_Angeles:20240519T130000
DTSTAMP:20260421T174350
CREATED:20240417T233402Z
LAST-MODIFIED:20250319T223410Z
UID:6377-1716105600-1716123600@napafirewise.org
SUMMARY:Angwin Flea Market
DESCRIPTION:Join the Angwin Flea Market for a fundraiser for Angwin Fire Department.
URL:https://napafirewise.org/event/angwin-flea-market/
LOCATION:Angwin Plaza
END:VEVENT
BEGIN:VEVENT
DTSTART;TZID=America/Los_Angeles:20240519T100000
DTEND;TZID=America/Los_Angeles:20240519T160000
DTSTAMP:20260421T174350
CREATED:20240513T211036Z
LAST-MODIFIED:20240513T211036Z
UID:6527-1716112800-1716134400@napafirewise.org
SUMMARY:Cloverdale Fire & Earthquake Safety Expo
DESCRIPTION:Join your community for a FUN\, FREE day of emergency preparedness activities and training. The Fire and Earthquake Safety Expo is a unique\, hands-on event to help Sonoma County be better prepared for the next wildfire and earthquake; you and your family\, business\, property\, and pets/livestock. \nThe Expo is the largest in-person emergency preparedness event in Sonoma County. Bring the entire family and watch the look on your kids’ faces when they sit in a fire engine\, run the little Firefighter obstacle course\, or visit with animals. You will have the opportunity to: \n\nLearn from first responders and other experts\nEnjoy free giveaways & lunch (while supplies last)\nExperience Henry 1 and Sonoma County 1 helicopters in action\nWatch emergency demonstrations & live simulations\nBrowse 60 exhibits + state-of-the-art products\nFeel an “earthquake” in the Shake Trailer\nSpeak with experts in the Resilient Landscape Room\nParticipate in kid’s activities\nAnd more.\n\nMore Information Here.
URL:https://napafirewise.org/event/cloverdale-fire-earthquake-safety-expo/
END:VEVENT
BEGIN:VEVENT
DTSTART;TZID=America/Los_Angeles:20240519T110000
DTEND;TZID=America/Los_Angeles:20240519T140000
DTSTAMP:20260421T174350
CREATED:20240513T211655Z
LAST-MODIFIED:20250327T222045Z
UID:6531-1716116400-1716127200@napafirewise.org
SUMMARY:Berryessa Highlands Fire Safe Council Community Meeting
DESCRIPTION:Berryessa Highlands Fire Safe Council Community meeting Sunday\, May 19\,  11:00 – 2:00
URL:https://napafirewise.org/event/berryessa-highlands-fire-safe-council-community-meeting/
END:VEVENT
BEGIN:VEVENT
DTSTART;TZID=America/Los_Angeles:20240519T143000
DTEND;TZID=America/Los_Angeles:20240519T163000
DTSTAMP:20260421T174350
CREATED:20240513T185215Z
LAST-MODIFIED:20250327T221838Z
UID:6515-1716129000-1716136200@napafirewise.org
SUMMARY:Deer Park Fire Safe Council Community Meeting
DESCRIPTION:Deer Park Fire Safe Council is hosting a Community Meeting at the Tucker Farm Center on Sunday\, May 19\,  2:30-4:30  at the Tucker Farm Center: 1201 Tucker Road\, Calistoga.  The event will feature Updates\, a presentation on the new CalVTP (California Vegetation Treatment Program) approved for the Angwin/Deer Park area\, and a defensible space overview plus walk around the of the Tucker Farm Center to learn first hand defensible space do’s and don’ts. Bring your own work gloves and yardwork tools and join the work party to improve the D-Space  for the Tucker Farm Center! Hands-on learning and helping this local community treasure be safer from the next wildfire. Snacks will be provided . \nContact deerpark@napafirewise.org with questions or to RSVP Call: 707-337-4976
URL:https://napafirewise.org/event/deer-park-fire-safe-council-community-meeting/
LOCATION:Tucker Farm Center\, 1201 Tucker Rd\, Calistoga\, CA\, 94515
END:VEVENT
BEGIN:VEVENT
DTSTART;VALUE=DATE:20240520
DTEND;VALUE=DATE:20240521
DTSTAMP:20260421T174350
CREATED:20240513T185714Z
LAST-MODIFIED:20240513T185800Z
UID:6522-1716163200-1716249599@napafirewise.org
SUMMARY:Pope Valley Defensible Space Demonstration
DESCRIPTION:Pope Valley Defensible Space demonstration – Date TBD
URL:https://napafirewise.org/event/pope-valley-defensible-space-demonstration/
END:VEVENT
BEGIN:VEVENT
DTSTART;TZID=America/Los_Angeles:20240521T180000
DTEND;TZID=America/Los_Angeles:20240521T190000
DTSTAMP:20260421T174350
CREATED:20240521T154222Z
LAST-MODIFIED:20240521T155415Z
UID:6578-1716314400-1716318000@napafirewise.org
SUMMARY:Wildfire Preparedness Strategies for Farms and Ranches Webinar Series: Part 1
DESCRIPTION:Agricultural infrastructure has inherent vulnerabilities to wildfire. However\, buildings and infrastructures can be hardened and maintained to reduce their vulnerability to fire and fire-related damage to agricultural resources. Additionally\, having a plan in place to keep your livestock safe and healthy is essential to maintaining animal health and resume operations as quickly as possible post-wildfire. Join the Fire Network to learn about wildfire preparedness strategies for farms and ranches! This webinar series consists of two events: \nPart 1: Ranch Hardening and Wildfire Preparedness Strategies for Agricultural Structures \n\nDate & Time: May 21\, 2024 from 6:00 – 7:00 PM PST\nDescription: Join UCCE Fire Advisor\, Luca Carmignani and Forest Advisor\, Yana Valachovic\, for an engaging discussion about best practices for incorporating principles of structure hardening and defensible space into agricultural structures and operations. This is a virtual webinar.\nRegister Here by May 20th: https://bit.ly/3y1MbuP\n\nPart 2: The Realities of Managing Livestock Health During Wildfire (May 28)
URL:https://napafirewise.org/event/ranch-hardening-and-wildfire-preparedness-strategies-for-agricultural-structures/
END:VEVENT
BEGIN:VEVENT
DTSTART;TZID=America/Los_Angeles:20240528T180000
DTEND;TZID=America/Los_Angeles:20240528T193000
DTSTAMP:20260421T174350
CREATED:20240521T154222Z
LAST-MODIFIED:20240521T155310Z
UID:6583-1716919200-1716924600@napafirewise.org
SUMMARY:Wildfire Preparedness Strategies for Farms and Ranches Webinar Series: Part 2
DESCRIPTION:Agricultural infrastructure has inherent vulnerabilities to wildfire. However\, buildings and infrastructures can be hardened and maintained to reduce their vulnerability to fire and fire-related damage to agricultural resources. Additionally\, having a plan in place to keep your livestock safe and healthy is essential to maintaining animal health and resume operations as quickly as possible post-wildfire. Join the Fire Network to learn about wildfire preparedness strategies for farms and ranches! This webinar series consists of two events: \nPart 1: Ranch Hardening and Wildfire Preparedness Strategies for Agricultural Structures (May 21) \nPart 2: The Realities of Managing Livestock Health During Wildfire \n\nDate & Time: May 28\, 2024 from 6:00 – 7:30 PM PST\nDescription: Join UCCE Livestock and Natural Resource Advisors and our partners for a set of presentations about managing livestock health during wildfire events and what to do if you find yourself trapped by an approaching wildfire. This is a virtual webinar.\nRegister Here by May 20th: https://bit.ly/3y1MbuP
URL:https://napafirewise.org/event/realities-of-managing-livestock-health-during-wildfire/
END:VEVENT
END:VCALENDAR