BEGIN:VCALENDAR
VERSION:2.0
PRODID:-//Napa Communities Firewise Foundation - ECPv6.15.20//NONSGML v1.0//EN
CALSCALE:GREGORIAN
METHOD:PUBLISH
X-ORIGINAL-URL:https://napafirewise.org
X-WR-CALDESC:Events for Napa Communities Firewise Foundation
REFRESH-INTERVAL;VALUE=DURATION:PT1H
X-Robots-Tag:noindex
X-PUBLISHED-TTL:PT1H
BEGIN:VTIMEZONE
TZID:America/Los_Angeles
BEGIN:DAYLIGHT
TZOFFSETFROM:-0800
TZOFFSETTO:-0700
TZNAME:PDT
DTSTART:20230312T100000
END:DAYLIGHT
BEGIN:STANDARD
TZOFFSETFROM:-0700
TZOFFSETTO:-0800
TZNAME:PST
DTSTART:20231105T090000
END:STANDARD
BEGIN:DAYLIGHT
TZOFFSETFROM:-0800
TZOFFSETTO:-0700
TZNAME:PDT
DTSTART:20240310T100000
END:DAYLIGHT
BEGIN:STANDARD
TZOFFSETFROM:-0700
TZOFFSETTO:-0800
TZNAME:PST
DTSTART:20241103T090000
END:STANDARD
BEGIN:DAYLIGHT
TZOFFSETFROM:-0800
TZOFFSETTO:-0700
TZNAME:PDT
DTSTART:20250309T100000
END:DAYLIGHT
BEGIN:STANDARD
TZOFFSETFROM:-0700
TZOFFSETTO:-0800
TZNAME:PST
DTSTART:20251102T090000
END:STANDARD
END:VTIMEZONE
BEGIN:VEVENT
DTSTART;TZID=America/Los_Angeles:20240612T170000
DTEND;TZID=America/Los_Angeles:20240612T190000
DTSTAMP:20260421T155348
CREATED:20240614T123748Z
LAST-MODIFIED:20250327T221822Z
UID:6720-1718211600-1718218800@napafirewise.org
SUMMARY:Wild Horse Valley FSC Community Meeting
DESCRIPTION:FIRE SEASON IS HERE – PREPARE! PREPARE! PREPARE! \nLight snacks and water/soda will be available \nYou may bring wine to share \n**RAFFLE: TRY YOUR LUCK & support CW Fire Safe Council** \nMEETING THEME – DEFENSIBLE SPACE \nDEFENSIBLE SPACE = SAFER HOMES = SAFER COMMUNITIES \n  \nLEARN MORE ABOUT: \n\nHow to Make Your Home Safer\nAvailable Funding\n Get to Know Your Neighbors \nInvasive Species \n\n  \nSPEAKERS: Napa Firewise; CAL FIRE ; JR Rogers – Napa County Fire Administration; \nStuart Mitchell – Wildfire Mitigation Advisors; Napa Resource \nConservation District & NRCS; Bernie Narvaez Insurance; NV COAD – BRINGING NEIGHBORS TOGETHER.
URL:https://napafirewise.org/event/wild-horse-valley-fsc-community-meeting/
END:VEVENT
END:VCALENDAR