BEGIN:VCALENDAR
VERSION:2.0
PRODID:-//Napa Communities Firewise Foundation - ECPv6.15.20//NONSGML v1.0//EN
CALSCALE:GREGORIAN
METHOD:PUBLISH
X-ORIGINAL-URL:https://napafirewise.org
X-WR-CALDESC:Events for Napa Communities Firewise Foundation
REFRESH-INTERVAL;VALUE=DURATION:PT1H
X-Robots-Tag:noindex
X-PUBLISHED-TTL:PT1H
BEGIN:VTIMEZONE
TZID:America/Los_Angeles
BEGIN:DAYLIGHT
TZOFFSETFROM:-0800
TZOFFSETTO:-0700
TZNAME:PDT
DTSTART:20230312T100000
END:DAYLIGHT
BEGIN:STANDARD
TZOFFSETFROM:-0700
TZOFFSETTO:-0800
TZNAME:PST
DTSTART:20231105T090000
END:STANDARD
BEGIN:DAYLIGHT
TZOFFSETFROM:-0800
TZOFFSETTO:-0700
TZNAME:PDT
DTSTART:20240310T100000
END:DAYLIGHT
BEGIN:STANDARD
TZOFFSETFROM:-0700
TZOFFSETTO:-0800
TZNAME:PST
DTSTART:20241103T090000
END:STANDARD
BEGIN:DAYLIGHT
TZOFFSETFROM:-0800
TZOFFSETTO:-0700
TZNAME:PDT
DTSTART:20250309T100000
END:DAYLIGHT
BEGIN:STANDARD
TZOFFSETFROM:-0700
TZOFFSETTO:-0800
TZNAME:PST
DTSTART:20251102T090000
END:STANDARD
END:VTIMEZONE
BEGIN:VEVENT
DTSTART;TZID=America/Los_Angeles:20240727T090000
DTEND;TZID=America/Los_Angeles:20240727T100000
DTSTAMP:20260421T134703
CREATED:20240724T154323Z
LAST-MODIFIED:20240724T154324Z
UID:6889-1722070800-1722074400@napafirewise.org
SUMMARY:Mt. Veeder July Fire Safe Council Meeting
DESCRIPTION:Join the Mt. Veeder July Fire Safe Council Meeting.  \n\n\n\nFire Safe Councils are grassroots\, community-led organizations that mobilize residents to protect their homes\, communities\, and environments from catastrophic wildfire. Local fire safe councils have turned initial interest into a committed group that finds ways to empower the residents to do their part to make the community safer. \n\n\n\nNapa County Fire Safe Councils are supported by Napa Firewise with resources\, tools\, and the connections needed to help their communities. \n\n\n\nBy mobilizing the community members who stand to lose the most\, Fire Safe Councils create a powerful group initiative that can: \n\n\n\nAcquire resources that can assist in fire prevention efforts. \n\n\n\nMinimize risks to life\, homes\, and natural and human-made resources. \n\n\n\nIncrease the insurability of property by increasing community safety. \n\n\n\nForge strong partnerships with first responders.
URL:https://napafirewise.org/event/mt-veeder-july-fire-safe-council-meeting/
LOCATION:Basil Enan Residence\, 6476 Dry Creek Road\, Napa\, California\, 94558\, United States
ORGANIZER;CN="Mt. Veeder FSC":MAILTO:mtveeder@napafirewise.org
END:VEVENT
BEGIN:VEVENT
DTSTART;TZID=America/Los_Angeles:20240727T100000
DTEND;TZID=America/Los_Angeles:20240727T140000
DTSTAMP:20260421T134703
CREATED:20240722T234843Z
LAST-MODIFIED:20250327T221857Z
UID:6866-1722074400-1722088800@napafirewise.org
SUMMARY:Gordon Valley Fire Safe Council Community Meeting + Event
DESCRIPTION:Join the Gordon Valley Fire Safe Council for a Community Meeting & Event on wildfire resources for the Gordan Valley FSC community. \n\n\n\nThere will be presentations on evacuations\, local emergency communications\, defensible space\, cost-share programs and more resources!   \n\n\n\nLunch will be provided\, in addition to Gordon Valley FSC Lead\, Dan McQueeny\, will bring his furry goat friends!
URL:https://napafirewise.org/event/gordon-valley-fire-safe-council-community-meeting-event/
LOCATION:Gordon Valley Fire Station\, 1345 Wooden Valley Cross Rd\, Napa\, California\, 94558\, United States
ORGANIZER;CN="Gordan Valley Fire Safe Council":MAILTO:gordonvalley@napafirewise.org
END:VEVENT
END:VCALENDAR