BEGIN:VCALENDAR
VERSION:2.0
PRODID:-//Napa Communities Firewise Foundation - ECPv6.15.20//NONSGML v1.0//EN
CALSCALE:GREGORIAN
METHOD:PUBLISH
X-ORIGINAL-URL:https://napafirewise.org
X-WR-CALDESC:Events for Napa Communities Firewise Foundation
REFRESH-INTERVAL;VALUE=DURATION:PT1H
X-Robots-Tag:noindex
X-PUBLISHED-TTL:PT1H
BEGIN:VTIMEZONE
TZID:America/Los_Angeles
BEGIN:DAYLIGHT
TZOFFSETFROM:-0800
TZOFFSETTO:-0700
TZNAME:PDT
DTSTART:20230312T100000
END:DAYLIGHT
BEGIN:STANDARD
TZOFFSETFROM:-0700
TZOFFSETTO:-0800
TZNAME:PST
DTSTART:20231105T090000
END:STANDARD
BEGIN:DAYLIGHT
TZOFFSETFROM:-0800
TZOFFSETTO:-0700
TZNAME:PDT
DTSTART:20240310T100000
END:DAYLIGHT
BEGIN:STANDARD
TZOFFSETFROM:-0700
TZOFFSETTO:-0800
TZNAME:PST
DTSTART:20241103T090000
END:STANDARD
BEGIN:DAYLIGHT
TZOFFSETFROM:-0800
TZOFFSETTO:-0700
TZNAME:PDT
DTSTART:20250309T100000
END:DAYLIGHT
BEGIN:STANDARD
TZOFFSETFROM:-0700
TZOFFSETTO:-0800
TZNAME:PST
DTSTART:20251102T090000
END:STANDARD
END:VTIMEZONE
BEGIN:VEVENT
DTSTART;TZID=America/Los_Angeles:20240926T090000
DTEND;TZID=America/Los_Angeles:20240926T140000
DTSTAMP:20260421T100513
CREATED:20240919T184720Z
LAST-MODIFIED:20240925T233257Z
UID:7033-1727341200-1727359200@napafirewise.org
SUMMARY:Fire Safe Council Lead Field Tour
DESCRIPTION:The Wildfire Preparedness team is inviting our Fire Safe Council leads to join us\, and members of our veg opps team\, to tour two NCFF completed hazardous fuel reduction projects. Napa Firewise staff will guide FSC Leads behind the scenes tour of some impressive projects completed to improve access for firefighters\, reduce wildfire risk\, create anchor points for additional fuel reduction projects\, including grazing and prescribed fire\, and provide better protection for our veterans at the Yountville Vets Home.  Please RSVP below. \n\n\n\nItinerary:   \n\n\n\nTour 1:  \n\n\n\n9:00 AM – 10:00 AM: Meet at the Yountville Park and Ride; carpool to tour Veterans’ Home. Please be prepared to leave no later than 9am. During this estimated one-hour tour\, attendees should be prepared to get in and out of vehicles and walk around.  Attendees are encouraged to wear comfortable footwear and bring their own water bottle.   \n\n\n\nHighlights include:   \n\n\n\n\nFire Road \n\n\n\n\n\nShaded Fuel breaks \n\n\n\n\n\nHazardous fuels clearance on property \n\n\n\n\n\nEucalyptus grove removal \n\n\n\n\n\nmultiple funding sources leveraged \n\n\n\n\n10:00 AM: return to Park and Ride and regroup – carpool to the Lake Hennessey boat launch for Lake Hennessey to Atlas Peak tour. *At this time\, if attendees are continuing on the tour\, attendees are encouraged to use the restroom\, as there will be no services available at Lake Hennesey. \n\n\n\nTour 2: \n\n\n\n10:30 AM – 2:00 PM: Meet at the Boat launch at Lake Hennessey for an overview\, followed by a drive up Prichard Hill to Continuum led by NCFF staff. Continue along the “Continuum to Atlas” Fire Road through Land Trust property to Atlas Peak Road\, we will stop to discuss projects along the way and enjoy the scenery\, then down Atlas Peak Road to Napa. We will leave the boat launch at 11AM promptly. Cell service will be limited. \n\n\n\nDuring this estimated 3 hour tour\, we will stop for lunch. Attendees are encouraged to bring their own lunch and water bottle.  NCFF will provide light snacks and extra water. \n\n\n\nTour Highlights include:  \n\n\n\n\nBeacon box\n\n\n\n\n\nHwy 128 roadside expanded shaded fuel break\n\n\n\n\n\nGrazing for fuel reduction maintenance\n\n\n\n\n\nContinuum to Atlas fire road\n\n\n\n\n\nRoadside expanded and grazing program for maintenance along 128 and Pritchard Hill \n\n\n\n\n\n“Circle Oaks North Ridge” Fire Road \n\n\n\n\n\nRoadside extended work on Atlas Peak Road \n\n\n\n\nJoin us for a day of learning\, exploration\, and community engagement. Attendees should wear comfortable shoes\, bring a lunch\, and water. Carpooling and consolidating cars will be highly encouraged. Especially at Lake Hennessey\, cars should be Sabaru or higher\, cars very low to the ground are not advised. Concerned? Email wildfirepreparedness@napafirewise.org
URL:https://napafirewise.org/event/fire-safe-council-lead-field-tour/
END:VEVENT
END:VCALENDAR