BEGIN:VCALENDAR
VERSION:2.0
PRODID:-//Napa Communities Firewise Foundation - ECPv6.15.20//NONSGML v1.0//EN
CALSCALE:GREGORIAN
METHOD:PUBLISH
X-ORIGINAL-URL:https://napafirewise.org
X-WR-CALDESC:Events for Napa Communities Firewise Foundation
REFRESH-INTERVAL;VALUE=DURATION:PT1H
X-Robots-Tag:noindex
X-PUBLISHED-TTL:PT1H
BEGIN:VTIMEZONE
TZID:America/Los_Angeles
BEGIN:DAYLIGHT
TZOFFSETFROM:-0800
TZOFFSETTO:-0700
TZNAME:PDT
DTSTART:20250309T100000
END:DAYLIGHT
BEGIN:STANDARD
TZOFFSETFROM:-0700
TZOFFSETTO:-0800
TZNAME:PST
DTSTART:20251102T090000
END:STANDARD
BEGIN:DAYLIGHT
TZOFFSETFROM:-0800
TZOFFSETTO:-0700
TZNAME:PDT
DTSTART:20260308T100000
END:DAYLIGHT
BEGIN:STANDARD
TZOFFSETFROM:-0700
TZOFFSETTO:-0800
TZNAME:PST
DTSTART:20261101T090000
END:STANDARD
BEGIN:DAYLIGHT
TZOFFSETFROM:-0800
TZOFFSETTO:-0700
TZNAME:PDT
DTSTART:20270314T100000
END:DAYLIGHT
BEGIN:STANDARD
TZOFFSETFROM:-0700
TZOFFSETTO:-0800
TZNAME:PST
DTSTART:20271107T090000
END:STANDARD
END:VTIMEZONE
BEGIN:VEVENT
DTSTART;TZID=America/Los_Angeles:20260114T173000
DTEND;TZID=America/Los_Angeles:20260114T190000
DTSTAMP:20260419T074422
CREATED:20251218T163447Z
LAST-MODIFIED:20251218T163449Z
UID:12691-1768411800-1768417200@napafirewise.org
SUMMARY:Napa PBA Community Meeting
DESCRIPTION:Join the Napa PBA (organized through Napa RCD) for a community gathering at the Tucker Farm Center in Calistoga!  \n\n\n\nThis will be a great time to connect with others interested in prescribed fire\, raise questions\, share ideas\, and be part of the Napa PBA movement. There will be snacks and beverages. Registration is not required but appreciated for a head count for food.  \n\n\n\nTo register\, please use this link.  
URL:https://napafirewise.org/event/napa-pba-community-meeting/
LOCATION:Tucker Farm Center\, 1201 Tucker Rd\, Calistoga\, CA\, 94515
ORGANIZER;CN="Napa Prescribed Burn Association (PBA)":MAILTO:Danielle@NapaRCD.org
END:VEVENT
END:VCALENDAR