BEGIN:VCALENDAR
VERSION:2.0
PRODID:-//Napa Communities Firewise Foundation - ECPv6.15.20//NONSGML v1.0//EN
CALSCALE:GREGORIAN
METHOD:PUBLISH
X-ORIGINAL-URL:https://napafirewise.org
X-WR-CALDESC:Events for Napa Communities Firewise Foundation
REFRESH-INTERVAL;VALUE=DURATION:PT1H
X-Robots-Tag:noindex
X-PUBLISHED-TTL:PT1H
BEGIN:VTIMEZONE
TZID:America/Los_Angeles
BEGIN:DAYLIGHT
TZOFFSETFROM:-0800
TZOFFSETTO:-0700
TZNAME:PDT
DTSTART:20180311T100000
END:DAYLIGHT
BEGIN:STANDARD
TZOFFSETFROM:-0700
TZOFFSETTO:-0800
TZNAME:PST
DTSTART:20181104T090000
END:STANDARD
BEGIN:DAYLIGHT
TZOFFSETFROM:-0800
TZOFFSETTO:-0700
TZNAME:PDT
DTSTART:20190310T100000
END:DAYLIGHT
BEGIN:STANDARD
TZOFFSETFROM:-0700
TZOFFSETTO:-0800
TZNAME:PST
DTSTART:20191103T090000
END:STANDARD
BEGIN:DAYLIGHT
TZOFFSETFROM:-0800
TZOFFSETTO:-0700
TZNAME:PDT
DTSTART:20200308T100000
END:DAYLIGHT
BEGIN:STANDARD
TZOFFSETFROM:-0700
TZOFFSETTO:-0800
TZNAME:PST
DTSTART:20201101T090000
END:STANDARD
END:VTIMEZONE
BEGIN:VEVENT
DTSTART;TZID=America/Los_Angeles:20190814T140000
DTEND;TZID=America/Los_Angeles:20190814T153000
DTSTAMP:20260424T131102
CREATED:20190811T222826Z
LAST-MODIFIED:20250327T222315Z
UID:620-1565791200-1565796600@napafirewise.org
SUMMARY:PG&E Wildfire Safety Informational Webinar
DESCRIPTION:This webinar will provide an additional opportunity for anyone who is interested in PG&E’s wildfire safety efforts to receive a presentation from PG&E leadership\, ask questions and provide feedback. \nTopics will include: \n\nExpansion of the Public Safety Power Shutoff program\nAccelerated safety inspections of electric infrastructure\nEnhanced vegetation management around power lines\nHardening the electric system for the future by replacing equipment and installing stronger and more resilient poles and covered power lines\n\nFor more information regarding PG&E’s ongoing wildfire safety efforts\, please visit www.pge.com/wildfiresafety\nREGISTER NOW \nEvent Notes\n\nPlease note that for optimal viewing\, it is best not to use a VPN\, but instead to connect directly to the Internet.\nPlease disable any pop-up blockers in order to view the content in its entirety.\nThis event is being streamed. It is recommended that you listen via your computer speakers. Additional options for audio listening:\n\nToll-Free Attendee Dial In: 1-855-247-4312\nPasscode: 3278039\n\n\nClosed captioning for the event will be available in English\, Spanish and Chinese.\nFor your convenience\, a copy of the presentation is also available here.
URL:https://napafirewise.org/event/pge-wildfire-safety-informational-webinar/
END:VEVENT
END:VCALENDAR